BEGIN:VCALENDAR
VERSION:2.0
PRODID:-//Guelph-Wellington Local Immigration Partnership - ECPv6.15.20//NONSGML v1.0//EN
CALSCALE:GREGORIAN
METHOD:PUBLISH
X-ORIGINAL-URL:https://www.guelphwellingtonlip.ca
X-WR-CALDESC:Events for Guelph-Wellington Local Immigration Partnership
REFRESH-INTERVAL;VALUE=DURATION:PT1H
X-Robots-Tag:noindex
X-PUBLISHED-TTL:PT1H
BEGIN:VTIMEZONE
TZID:America/Toronto
BEGIN:DAYLIGHT
TZOFFSETFROM:-0500
TZOFFSETTO:-0400
TZNAME:EDT
DTSTART:20230312T070000
END:DAYLIGHT
BEGIN:STANDARD
TZOFFSETFROM:-0400
TZOFFSETTO:-0500
TZNAME:EST
DTSTART:20231105T060000
END:STANDARD
BEGIN:DAYLIGHT
TZOFFSETFROM:-0500
TZOFFSETTO:-0400
TZNAME:EDT
DTSTART:20240310T070000
END:DAYLIGHT
BEGIN:STANDARD
TZOFFSETFROM:-0400
TZOFFSETTO:-0500
TZNAME:EST
DTSTART:20241103T060000
END:STANDARD
BEGIN:DAYLIGHT
TZOFFSETFROM:-0500
TZOFFSETTO:-0400
TZNAME:EDT
DTSTART:20250309T070000
END:DAYLIGHT
BEGIN:STANDARD
TZOFFSETFROM:-0400
TZOFFSETTO:-0500
TZNAME:EST
DTSTART:20251102T060000
END:STANDARD
END:VTIMEZONE
BEGIN:VTIMEZONE
TZID:UTC
BEGIN:STANDARD
TZOFFSETFROM:+0000
TZOFFSETTO:+0000
TZNAME:UTC
DTSTART:20220101T000000
END:STANDARD
END:VTIMEZONE
BEGIN:VTIMEZONE
TZID:America/New_York
BEGIN:DAYLIGHT
TZOFFSETFROM:-0500
TZOFFSETTO:-0400
TZNAME:EDT
DTSTART:20220313T070000
END:DAYLIGHT
BEGIN:STANDARD
TZOFFSETFROM:-0400
TZOFFSETTO:-0500
TZNAME:EST
DTSTART:20221106T060000
END:STANDARD
BEGIN:DAYLIGHT
TZOFFSETFROM:-0500
TZOFFSETTO:-0400
TZNAME:EDT
DTSTART:20230312T070000
END:DAYLIGHT
BEGIN:STANDARD
TZOFFSETFROM:-0400
TZOFFSETTO:-0500
TZNAME:EST
DTSTART:20231105T060000
END:STANDARD
BEGIN:DAYLIGHT
TZOFFSETFROM:-0500
TZOFFSETTO:-0400
TZNAME:EDT
DTSTART:20240310T070000
END:DAYLIGHT
BEGIN:STANDARD
TZOFFSETFROM:-0400
TZOFFSETTO:-0500
TZNAME:EST
DTSTART:20241103T060000
END:STANDARD
END:VTIMEZONE
BEGIN:VEVENT
DTSTART;TZID=America/Toronto:20240920T100000
DTEND;TZID=America/Toronto:20240922T170000
DTSTAMP:20260422T033745
CREATED:20240815T134435Z
LAST-MODIFIED:20240815T134435Z
UID:10000157-1726826400-1727024400@www.guelphwellingtonlip.ca
SUMMARY:Welcome to Guelph Museums – Free Admission Days
DESCRIPTION:Visit Guelph Civic Museum and McCrae House National Historic Site with free admission this weekend. Explore new featured exhibitions: Weaving Cultural Identities: Celebrating Heritage and Textile Traditions (on loan from the Vancouver Biennale) and Art as We Are: Creative Community Care.
URL:https://www.guelphwellingtonlip.ca/event/welcome-to-guelph-museums-free-admission-days/
LOCATION:Guelph Civic Museum and McCrae House\, 52 Norfolk Street\, Guelph\, Ontario\, N1H 4H8\, Canada
ORGANIZER;CN="Guelph Museums and Culture":MAILTO:museum@guelph.ca
END:VEVENT
BEGIN:VEVENT
DTSTART;TZID=America/Toronto:20240919T190000
DTEND;TZID=America/Toronto:20240919T190000
DTSTAMP:20260422T033745
CREATED:20240815T134614Z
LAST-MODIFIED:20240815T134614Z
UID:10000158-1726772400-1726772400@www.guelphwellingtonlip.ca
SUMMARY:Endgame: The Secret Force 136 – a lecture by Catherine Little
DESCRIPTION:As part of Guelph Museums’ Military Lecture Series\, Catherine Little explores the contributions of Chinese Immigrants to Canada’s Second World War efforts.
URL:https://www.guelphwellingtonlip.ca/event/endgame-the-secret-force-136-a-lecture-by-catherine-little/
LOCATION:Guelph Civic Museum\, 52 Norfolk Street\, Guelph\, Ontario\, N1H 4H8\, Canada
ORGANIZER;CN="Guelph Museums and Culture":MAILTO:museum@guelph.ca
END:VEVENT
BEGIN:VEVENT
DTSTART;TZID=UTC:20230908T100000
DTEND;TZID=UTC:20230917T170000
DTSTAMP:20260422T033745
CREATED:20230808T134539Z
LAST-MODIFIED:20230808T154941Z
UID:10000104-1694167200-1694970000@www.guelphwellingtonlip.ca
SUMMARY:Free Admission to Guelph Museums!
DESCRIPTION:Complimentary admission to Guelph Civic Museum and McCrae House. The Civic Museum is open 10 am to 5 pm\, Tuesday through Sunday. McCrae House is open 1 to 5 pm\, Tuesday through Sunday.
URL:https://www.guelphwellingtonlip.ca/event/free-admission-to-guelph-museums/
LOCATION:Guelph Civic Museum and McCrae House\, 52 Norfolk Street\, Guelph\, Ontario\, N1H 4H8\, Canada
ORGANIZER;CN="Guelph Museums and Culture":MAILTO:museum@guelph.ca
END:VEVENT
BEGIN:VEVENT
DTSTART;TZID=America/New_York:20230908T090000
DTEND;TZID=America/New_York:20230908T090000
DTSTAMP:20260422T033745
CREATED:20230808T135138Z
LAST-MODIFIED:20230830T180400Z
UID:10000105-1694163600-1694163600@www.guelphwellingtonlip.ca
SUMMARY:Know Your Neighbours
DESCRIPTION:Cinthuja Leon interviews immigrants living in Guelph to get an understanding of their moves to Guelph\, their community here\, and what their lives in Guelph are like.
URL:https://www.guelphwellingtonlip.ca/event/know-your-neighbours/
LOCATION:Virtual
ORGANIZER;CN="Guelph Museums and Culture":MAILTO:museum@guelph.ca
END:VEVENT
END:VCALENDAR