BEGIN:VCALENDAR
VERSION:2.0
PRODID:-//Guelph-Wellington Local Immigration Partnership - ECPv6.15.20//NONSGML v1.0//EN
CALSCALE:GREGORIAN
METHOD:PUBLISH
X-ORIGINAL-URL:https://www.guelphwellingtonlip.ca
X-WR-CALDESC:Events for Guelph-Wellington Local Immigration Partnership
REFRESH-INTERVAL;VALUE=DURATION:PT1H
X-Robots-Tag:noindex
X-PUBLISHED-TTL:PT1H
BEGIN:VTIMEZONE
TZID:America/Toronto
BEGIN:DAYLIGHT
TZOFFSETFROM:-0500
TZOFFSETTO:-0400
TZNAME:EDT
DTSTART:20230312T070000
END:DAYLIGHT
BEGIN:STANDARD
TZOFFSETFROM:-0400
TZOFFSETTO:-0500
TZNAME:EST
DTSTART:20231105T060000
END:STANDARD
BEGIN:DAYLIGHT
TZOFFSETFROM:-0500
TZOFFSETTO:-0400
TZNAME:EDT
DTSTART:20240310T070000
END:DAYLIGHT
BEGIN:STANDARD
TZOFFSETFROM:-0400
TZOFFSETTO:-0500
TZNAME:EST
DTSTART:20241103T060000
END:STANDARD
BEGIN:DAYLIGHT
TZOFFSETFROM:-0500
TZOFFSETTO:-0400
TZNAME:EDT
DTSTART:20250309T070000
END:DAYLIGHT
BEGIN:STANDARD
TZOFFSETFROM:-0400
TZOFFSETTO:-0500
TZNAME:EST
DTSTART:20251102T060000
END:STANDARD
BEGIN:DAYLIGHT
TZOFFSETFROM:-0500
TZOFFSETTO:-0400
TZNAME:EDT
DTSTART:20260308T070000
END:DAYLIGHT
BEGIN:STANDARD
TZOFFSETFROM:-0400
TZOFFSETTO:-0500
TZNAME:EST
DTSTART:20261101T060000
END:STANDARD
END:VTIMEZONE
BEGIN:VTIMEZONE
TZID:UTC
BEGIN:STANDARD
TZOFFSETFROM:+0000
TZOFFSETTO:+0000
TZNAME:UTC
DTSTART:20220101T000000
END:STANDARD
END:VTIMEZONE
BEGIN:VEVENT
DTSTART;TZID=America/Toronto:20250920T100000
DTEND;TZID=America/Toronto:20250920T110000
DTSTAMP:20260421T190538
CREATED:20250808T175503Z
LAST-MODIFIED:20250808T175503Z
UID:10000175-1758362400-1758366000@www.guelphwellingtonlip.ca
SUMMARY:English Conversation Circle
DESCRIPTION:Practice speaking English in a friendly and welcoming place. Join us for this free weekly drop-in program. For adults. Registration is optional. Drop in attendees are welcome. \nContact etyschenko@guelphpl.ca for more details.
URL:https://www.guelphwellingtonlip.ca/event/english-conversation-circle-4/
LOCATION:Main Branch – Board Room\, 100 Norfolk Street\, Guelph\, Ontario\, N1H 4J6\, Canada
END:VEVENT
BEGIN:VEVENT
DTSTART;TZID=America/Toronto:20250918T100000
DTEND;TZID=America/Toronto:20250918T120000
DTSTAMP:20260421T190538
CREATED:20250808T175339Z
LAST-MODIFIED:20250808T175339Z
UID:10000174-1758189600-1758196800@www.guelphwellingtonlip.ca
SUMMARY:Coffee Time Chat: Share Your Stories During Welcoming Week
DESCRIPTION:We invite newcomers and community members alike to enjoy coffee and share their stories with Community Living Guelph Wellington’s P4P Advocacy Members. No registration required. All ages. \nContact etyschenko@guelphpl.ca for more details.
URL:https://www.guelphwellingtonlip.ca/event/coffee-time-chat-share-your-stories-during-welcoming-week/
LOCATION:Main Branch – Program Room\, 100 Norfolk Street\, Guelph\, Ontario\, N1H 4J6\, Canada
END:VEVENT
BEGIN:VEVENT
DTSTART;TZID=America/Toronto:20250918T100000
DTEND;TZID=America/Toronto:20250918T113000
DTSTAMP:20260421T190538
CREATED:20250808T181536Z
LAST-MODIFIED:20250818T171445Z
UID:10000183-1758189600-1758195000@www.guelphwellingtonlip.ca
SUMMARY:Super Sensory Baby - Main Library Program Room
DESCRIPTION:Join us for sensory play at the Main Library. For babies. No registration is required. Although always welcome\, Newcomers are invited to come together with other parents and caregivers in the spirit of Welcoming Week! \nContact lcontini@guelphpl.ca for more details.
URL:https://www.guelphwellingtonlip.ca/event/super-sensory-baby-main-library-program-room/
LOCATION:Main Branch – Program Room\, 100 Norfolk Street\, Guelph\, Ontario\, N1H 4J6\, Canada
END:VEVENT
BEGIN:VEVENT
DTSTART;TZID=America/Toronto:20250917T110000
DTEND;TZID=America/Toronto:20250917T113000
DTSTAMP:20260421T190538
CREATED:20250808T181415Z
LAST-MODIFIED:20250818T171436Z
UID:10000182-1758106800-1758108600@www.guelphwellingtonlip.ca
SUMMARY:Bouncing Babies - Westminster Square Branch
DESCRIPTION:Learn a variety of songs\, rhymes and activities designed to foster early language development and a love of reading. For babies. No registration is required. Although always welcome\, Newcomers are invited to come together with other parents and caregivers in the spirit of Welcoming Week! \nContact lcontini@guelphpl.ca for more details.
URL:https://www.guelphwellingtonlip.ca/event/bouncing-babies-westminster-square-branch-2/
LOCATION:Westminster Square Branch\, 31 Farley Drive\, Guelph\, Ontario\, N1L 0B7\, Canada
END:VEVENT
BEGIN:VEVENT
DTSTART;TZID=America/Toronto:20250917T100000
DTEND;TZID=America/Toronto:20250917T103000
DTSTAMP:20260421T190538
CREATED:20250808T181254Z
LAST-MODIFIED:20250818T171426Z
UID:10000181-1758103200-1758105000@www.guelphwellingtonlip.ca
SUMMARY:Bouncing Babies - Bullfrog Mall Branch
DESCRIPTION:Have fun learning a variety of songs\, rhymes and activities designed to foster early language development and a love of reading. For babies. No registration required. Although always welcome\, Newcomers are invited to come together with other parents and caregivers in the spirit of Welcoming Week! \nContact lcontini@guelphpl.ca for more details.
URL:https://www.guelphwellingtonlip.ca/event/bouncing-babies-bullfrog-mall-branch-2/
LOCATION:Guelph Public Library – Bullfrog Mall Branch\, 380 Eramosa Road\, Guelph\, Ontario\, N1E 2M9\, Canada
END:VEVENT
BEGIN:VEVENT
DTSTART;TZID=America/Toronto:20250917T100000
DTEND;TZID=America/Toronto:20250917T103000
DTSTAMP:20260421T190538
CREATED:20250808T181134Z
LAST-MODIFIED:20250818T171417Z
UID:10000180-1758103200-1758105000@www.guelphwellingtonlip.ca
SUMMARY:S.T.E.A.M. Stories - Westminster Square Branch
DESCRIPTION:Join us at our Westminster Square Branch for S.T.E.A.M. stories. Listen to a story then participate in a S.T.E.A.M. activity or experiment. For toddlers and preschoolers. No registration required. Although always welcome\, Newcomers are invited to come together with other parents and caregivers in the spirit of Welcoming Week! \nContact lcontini@guelphpl.ca for more details.
URL:https://www.guelphwellingtonlip.ca/event/s-t-e-a-m-stories-westminster-square-branch/
LOCATION:Westminster Square Branch\, 31 Farley Drive\, Guelph\, Ontario\, N1L 0B7\, Canada
END:VEVENT
BEGIN:VEVENT
DTSTART;TZID=America/Toronto:20250916T110000
DTEND;TZID=America/Toronto:20250916T113000
DTSTAMP:20260421T190538
CREATED:20250808T180945Z
LAST-MODIFIED:20250818T171406Z
UID:10000179-1758020400-1758022200@www.guelphwellingtonlip.ca
SUMMARY:Bouncing Babies - Scottsdale Branch
DESCRIPTION:Learn a variety of songs\, rhymes and activities designed to foster early language development and a love of reading. For babies. No registration required. Although always welcome\, Newcomers are invited to come together with other parents and caregivers in the spirit of Welcoming Week! \nContact lcontini@guelphpl.ca for more details.
URL:https://www.guelphwellingtonlip.ca/event/bouncing-babies-scottsdale-branch/
LOCATION:Guelph Public Library – Scottsdale Branch\, 650 Scottsdale Drive\, Guelph\, Ontario\, N1G 4T7\, Canada
END:VEVENT
BEGIN:VEVENT
DTSTART;TZID=UTC:20250916T103000
DTEND;TZID=UTC:20250916T110000
DTSTAMP:20260421T190538
CREATED:20250808T183555Z
LAST-MODIFIED:20250822T133401Z
UID:10000185-1758018600-1758020400@www.guelphwellingtonlip.ca
SUMMARY:Reducing Digital Inequity in Guelph
DESCRIPTION:Join us virtually or in-person\, while we will explore ways to make internet access\, digital devices\, and digital skill-building opportunities accessible in Guelph. For adults. Please register at the link below. \nContact jlisso@guelphpl.ca for more details.
URL:https://www.guelphwellingtonlip.ca/event/reducing-digital-inequity-in-guelph/
LOCATION:Main Branch – Program Room\, 100 Norfolk Street\, Guelph\, Ontario\, N1H 4J6\, Canada
END:VEVENT
BEGIN:VEVENT
DTSTART;TZID=America/Toronto:20250916T100000
DTEND;TZID=America/Toronto:20250916T110000
DTSTAMP:20260421T190538
CREATED:20250808T175923Z
LAST-MODIFIED:20250818T171354Z
UID:10000178-1758016800-1758020400@www.guelphwellingtonlip.ca
SUMMARY:Bouncing Babies - Main Library Program Room
DESCRIPTION:Have fun learning a variety of songs\, rhymes and activities designed to foster early language development and a love of reading. For babies. No registration required. Although always welcome\, Newcomers are invited to come together with other parents and caregivers in the spirit of Welcoming Week! \nContact lcontini@guelphpl.ca for more details.
URL:https://www.guelphwellingtonlip.ca/event/bouncing-babies-main-library-program-room-2/
LOCATION:Main Branch – Program Room\, 100 Norfolk Street\, Guelph\, Ontario\, N1H 4J6\, Canada
END:VEVENT
BEGIN:VEVENT
DTSTART;TZID=America/Toronto:20250915T110000
DTEND;TZID=America/Toronto:20250915T113000
DTSTAMP:20260421T190538
CREATED:20250808T175758Z
LAST-MODIFIED:20250818T171344Z
UID:10000177-1757934000-1757935800@www.guelphwellingtonlip.ca
SUMMARY:Shake\, Rattle and Read - West End Branch
DESCRIPTION:Join us for 20 minutes of songs\, stories and fingerplays. A simple craft will follow this storytime. Suitable for toddlers and preschoolers. No registration required. Although always welcome\, Newcomers are invited to come together with other parents and caregivers in the spirit of Welcoming Week! \nContact lcontini@guelphpl.ca for more details.
URL:https://www.guelphwellingtonlip.ca/event/shake-rattle-and-read-west-end-branch/
LOCATION:Guelph Public Library – West End Branch\, 21 Imperial Road South\, Guelph\, Ontario\, N1K 1X6\, Canada
END:VEVENT
BEGIN:VEVENT
DTSTART;TZID=America/Toronto:20250915T100000
DTEND;TZID=America/Toronto:20250915T103000
DTSTAMP:20260421T190538
CREATED:20250808T175627Z
LAST-MODIFIED:20250818T171256Z
UID:10000176-1757930400-1757932200@www.guelphwellingtonlip.ca
SUMMARY:Bouncing Babies - West End Branch
DESCRIPTION:Have fun learning a variety of songs\, rhymes and activities designed to foster early language development and a love of reading. For babies. No registration required. Although always welcome\, Newcomers are invited to come together with other parents and caregivers in the spirit of Welcoming Week! \nContact lcontini@guelphpl.ca for more details.
URL:https://www.guelphwellingtonlip.ca/event/bouncing-babies-west-end-branch/
LOCATION:Guelph Public Library – West End Branch\, 21 Imperial Road South\, Guelph\, Ontario\, N1K 1X6\, Canada
END:VEVENT
BEGIN:VEVENT
DTSTART;TZID=America/Toronto:20250913T100000
DTEND;TZID=America/Toronto:20250913T100000
DTSTAMP:20260421T190538
CREATED:20250808T183411Z
LAST-MODIFIED:20250808T183411Z
UID:10000184-1757757600-1757757600@www.guelphwellingtonlip.ca
SUMMARY:English Conversation Circle with Special Guest Mike Schreiner (MPP)
DESCRIPTION:As part of Welcoming Week 2025 (September 12 to 21)\, we are pleased to welcome Mike Schreiner\, Member of Provincial Parliament (MPP)\, to English Conversation Circle. Attendees will have a chance to practice their English and learn about the work Mike Schreiner is doing for the Guelph community. \nContact etyschenko@guelphpl.ca for more details.
URL:https://www.guelphwellingtonlip.ca/event/english-conversation-circle-with-special-guest-mike-schreiner-mpp/
END:VEVENT
BEGIN:VEVENT
DTSTART;TZID=America/Toronto:20240921T111500
DTEND;TZID=America/Toronto:20240921T111500
DTSTAMP:20260421T190538
CREATED:20240807T174143Z
LAST-MODIFIED:20240807T174143Z
UID:10000146-1726917300-1726917300@www.guelphwellingtonlip.ca
SUMMARY:Library Tour for Newcomers - Main Library Board Room
DESCRIPTION:Are you new to Canada or Guelph? Join us for a one hour tour of the Main Library (100 Norfolk Street). For adults. Registration is not required.
URL:https://www.guelphwellingtonlip.ca/event/library-tour-for-newcomers-main-library-board-room/
LOCATION:Main Branch – Board Room\, 100 Norfolk Street\, Guelph\, Ontario\, N1H 4J6\, Canada
END:VEVENT
BEGIN:VEVENT
DTSTART;TZID=America/Toronto:20240921T111500
DTEND;TZID=America/Toronto:20240921T111500
DTSTAMP:20260421T190538
CREATED:20240807T154122Z
LAST-MODIFIED:20240807T154122Z
UID:10000133-1726917300-1726917300@www.guelphwellingtonlip.ca
SUMMARY:Library Tour for Newcomers
DESCRIPTION:Are you new to Canada or Guelph? Join us for a one hour tour of the Main Library (100 Norfolk Street). For adults. Registration is not required.
URL:https://www.guelphwellingtonlip.ca/event/library-tour-for-newcomers-5/
LOCATION:Main Branch – Board Room\, 100 Norfolk Street\, Guelph\, Ontario\, N1H 4J6\, Canada
END:VEVENT
BEGIN:VEVENT
DTSTART;TZID=America/Toronto:20240921T100000
DTEND;TZID=America/Toronto:20240921T100000
DTSTAMP:20260421T190538
CREATED:20240807T174043Z
LAST-MODIFIED:20240807T174043Z
UID:10000145-1726912800-1726912800@www.guelphwellingtonlip.ca
SUMMARY:English Conversation Circle - Main Library Board Room
DESCRIPTION:Practice speaking English in a friendly and welcoming place. Join us for this free weekly drop-in program. Registration is optional. Drop in attendees are welcome.
URL:https://www.guelphwellingtonlip.ca/event/english-conversation-circle-main-library-board-room/
LOCATION:Main Branch – Board Room\, 100 Norfolk Street\, Guelph\, Ontario\, N1H 4J6\, Canada
END:VEVENT
BEGIN:VEVENT
DTSTART;TZID=America/Toronto:20240921T100000
DTEND;TZID=America/Toronto:20240921T100000
DTSTAMP:20260421T190538
CREATED:20240807T154316Z
LAST-MODIFIED:20240807T154537Z
UID:10000134-1726912800-1726912800@www.guelphwellingtonlip.ca
SUMMARY:English Conversation Circle
DESCRIPTION:Practice speaking English in a friendly and welcoming place. Join us every other week for this free drop-in program. Registration is optional. Drop in attendees are welcome.
URL:https://www.guelphwellingtonlip.ca/event/english-conversation-circle-2/
LOCATION:Main Branch – Board Room\, 100 Norfolk Street\, Guelph\, Ontario\, N1H 4J6\, Canada
END:VEVENT
BEGIN:VEVENT
DTSTART;TZID=America/Toronto:20240919T103000
DTEND;TZID=America/Toronto:20240919T103000
DTSTAMP:20260421T190538
CREATED:20240807T173851Z
LAST-MODIFIED:20240807T173851Z
UID:10000144-1726741800-1726741800@www.guelphwellingtonlip.ca
SUMMARY:Bouncing Babies - East Side Branch
DESCRIPTION:Have fun learning a variety of songs\, rhymes and activities designed to foster early language development and a love of reading. For babies. No registration required.
URL:https://www.guelphwellingtonlip.ca/event/bouncing-babies-east-side-branch/
LOCATION:Guelph Public Library – East Side Branch\, 1 Starwood Drive\, Guelph\, Ontario\, N1E 0H5\, Canada
END:VEVENT
BEGIN:VEVENT
DTSTART;TZID=America/Toronto:20240919T100000
DTEND;TZID=America/Toronto:20240919T100000
DTSTAMP:20260421T190538
CREATED:20240807T173635Z
LAST-MODIFIED:20240807T173756Z
UID:10000143-1726740000-1726740000@www.guelphwellingtonlip.ca
SUMMARY:Shake\, Rattle and Read - East Side Branch Children's Area
DESCRIPTION:Join us for 20 minutes of songs\, stories and fingerplays. A simple craft will follow this storytime. For toddlers and preschoolers. No registration required.
URL:https://www.guelphwellingtonlip.ca/event/shake-rattle-and-read-east-side-branch-childrens-area/
LOCATION:Guelph Public Library – East Side Branch\, 1 Starwood Drive\, Guelph\, Ontario\, N1E 0H5\, Canada
END:VEVENT
BEGIN:VEVENT
DTSTART;TZID=America/Toronto:20240918T110000
DTEND;TZID=America/Toronto:20240918T110000
DTSTAMP:20260421T190538
CREATED:20240807T172714Z
LAST-MODIFIED:20240807T172714Z
UID:10000142-1726657200-1726657200@www.guelphwellingtonlip.ca
SUMMARY:Bouncing Babies - Westminster Square Branch
DESCRIPTION:Learn a variety of songs\, rhymes and activities designed to foster early language development and a love of reading. For babies. No registration is required.
URL:https://www.guelphwellingtonlip.ca/event/bouncing-babies-westminster-square-branch/
LOCATION:Westminster Square Branch\, 31 Farley Drive\, Guelph\, Ontario\, N1L 0B7\, Canada
END:VEVENT
BEGIN:VEVENT
DTSTART;TZID=America/Toronto:20240918T100000
DTEND;TZID=America/Toronto:20240918T100000
DTSTAMP:20260421T190538
CREATED:20240807T172618Z
LAST-MODIFIED:20240807T172618Z
UID:10000141-1726653600-1726653600@www.guelphwellingtonlip.ca
SUMMARY:Bouncing Babies - Bullfrog Mall Branch
DESCRIPTION:Have fun learning a variety of songs\, rhymes and activities designed to foster early language development and a love of reading. For babies. No registration required.
URL:https://www.guelphwellingtonlip.ca/event/bouncing-babies-bullfrog-mall-branch/
LOCATION:Guelph Public Library – Bullfrog Mall Branch\, 380 Eramosa Road\, Guelph\, Ontario\, N1E 2M9\, Canada
END:VEVENT
BEGIN:VEVENT
DTSTART;TZID=America/Toronto:20240918T100000
DTEND;TZID=America/Toronto:20240918T100000
DTSTAMP:20260421T190538
CREATED:20240807T172519Z
LAST-MODIFIED:20240807T172519Z
UID:10000140-1726653600-1726653600@www.guelphwellingtonlip.ca
SUMMARY:STEAM Stories - Westminster Square Branch
DESCRIPTION:Join us at our Westminster Square Branch for STEAM Stories. Listen to a story and then participate in a STEAM activity or experiment. For toddlers and preschoolers. No registration required.
URL:https://www.guelphwellingtonlip.ca/event/steam-stories-westminster-square-branch/
LOCATION:Westminster Square Branch\, 31 Farley Drive\, Guelph\, Ontario\, N1L 0B7\, Canada
END:VEVENT
BEGIN:VEVENT
DTSTART;TZID=America/Toronto:20240917T110000
DTEND;TZID=America/Toronto:20240917T110000
DTSTAMP:20260421T190538
CREATED:20240807T165408Z
LAST-MODIFIED:20240807T170622Z
UID:10000137-1726570800-1726570800@www.guelphwellingtonlip.ca
SUMMARY:Bouncing Babies - Scottsdale Branch
DESCRIPTION:Have fun learning a variety of songs\, rhymes and activities designed to foster early language development and a love of reading. For babies. No registration required.
URL:https://www.guelphwellingtonlip.ca/event/bouncing-babies-bullfrog-mall-branch-380-eramosa-road/
LOCATION:Guelph Public Library – Scottsdale Branch\, 650 Scottsdale Drive\, Guelph\, Ontario\, N1G 4T7\, Canada
END:VEVENT
BEGIN:VEVENT
DTSTART;TZID=America/Toronto:20240917T100000
DTEND;TZID=America/Toronto:20240917T110000
DTSTAMP:20260421T190538
CREATED:20240807T170240Z
LAST-MODIFIED:20240807T170846Z
UID:10000138-1726567200-1726570800@www.guelphwellingtonlip.ca
SUMMARY:Move and Groove - Scottsdale Branch
DESCRIPTION:Get your groove on with 20 minutes of songs\, movement and storytelling activities. For toddlers and preschoolers. No registration required.
URL:https://www.guelphwellingtonlip.ca/event/bouncing-babies-bullfrog-mall-branch-380-eramosa-road-2/
LOCATION:Guelph Public Library – Scottsdale Branch\, 650 Scottsdale Drive\, Guelph\, Ontario\, N1G 4T7\, Canada
END:VEVENT
BEGIN:VEVENT
DTSTART;TZID=America/Toronto:20240917T100000
DTEND;TZID=America/Toronto:20240917T100000
DTSTAMP:20260421T190538
CREATED:20240807T171139Z
LAST-MODIFIED:20240807T171139Z
UID:10000139-1726567200-1726567200@www.guelphwellingtonlip.ca
SUMMARY:Bouncing Babies - Main Library Program Room
DESCRIPTION:Have fun learning a variety of songs\, rhymes and activities designed to foster early language development and a love of reading. For babies. No registration required.
URL:https://www.guelphwellingtonlip.ca/event/bouncing-babies-main-library-program-room/
LOCATION:Main Branch – Program Room\, 100 Norfolk Street\, Guelph\, Ontario\, N1H 4J6\, Canada
END:VEVENT
BEGIN:VEVENT
DTSTART;TZID=America/Toronto:20240916T110000
DTEND;TZID=America/Toronto:20240916T110000
DTSTAMP:20260421T190538
CREATED:20240807T155208Z
LAST-MODIFIED:20240807T155208Z
UID:10000136-1726484400-1726484400@www.guelphwellingtonlip.ca
SUMMARY:Shake\, Rattle and Read - West End Branch (21 Imperial Road South)
DESCRIPTION:Join us for 20 minutes of songs\, stories and fingerplays. A simple craft will follow this storytime. For toddlers and preschoolers. No registration required.
URL:https://www.guelphwellingtonlip.ca/event/shake-rattle-and-read-west-end-branch-21-imperial-road-south/
LOCATION:Guelph Public Library – West End Branch\, 21 Imperial Road South\, Guelph\, Ontario\, N1K 1X6\, Canada
END:VEVENT
BEGIN:VEVENT
DTSTART;TZID=America/Toronto:20240916T100000
DTEND;TZID=America/Toronto:20240916T100000
DTSTAMP:20260421T190538
CREATED:20240807T154925Z
LAST-MODIFIED:20240807T155016Z
UID:10000135-1726480800-1726480800@www.guelphwellingtonlip.ca
SUMMARY:Bouncing Babies - West End Branch (21 Imperial Road South)
DESCRIPTION:Have fun learning a variety of songs\, rhymes and activities designed to foster early language development and a love of reading. For babies. No registration required.
URL:https://www.guelphwellingtonlip.ca/event/bouncing-babies-west-end-branch-21-imperial-road-south/
LOCATION:Guelph Public Library – West End Branch\, 21 Imperial Road South\, Guelph\, Ontario\, N1K 1X6\, Canada
END:VEVENT
BEGIN:VEVENT
DTSTART;TZID=America/Toronto:20240915T140000
DTEND;TZID=America/Toronto:20240915T140000
DTSTAMP:20260421T190538
CREATED:20240807T174330Z
LAST-MODIFIED:20240812T182728Z
UID:10000147-1726408800-1726408800@www.guelphwellingtonlip.ca
SUMMARY:Family Storytime - Westminster Square Branch
DESCRIPTION:Join us for 20 minutes of songs\, stories and fingerplays. A simple craft will follow. For toddlers\, preschoolers and primary grades. No registration is required.
URL:https://www.guelphwellingtonlip.ca/event/family-storytime-westminster-square-branch/
LOCATION:Westminster Square Branch\, 31 Farley Drive\, Guelph\, Ontario\, N1L 0B7\, Canada
END:VEVENT
BEGIN:VEVENT
DTSTART;TZID=America/Toronto:20240914T111500
DTEND;TZID=America/Toronto:20240914T111500
DTSTAMP:20260421T190538
CREATED:20240807T154002Z
LAST-MODIFIED:20240807T154002Z
UID:10000132-1726312500-1726312500@www.guelphwellingtonlip.ca
SUMMARY:Library Tour for Newcomers - Main Library Board Room (100 Norfolk Street)
DESCRIPTION:Are you new to Canada or Guelph? Join us for a one hour tour of the Main Library (100 Norfolk Street). For adults. Registration is not required.
URL:https://www.guelphwellingtonlip.ca/event/library-tour-for-newcomers-main-library-board-room-100-norfolk-street/
LOCATION:Main Branch – Board Room\, 100 Norfolk Street\, Guelph\, Ontario\, N1H 4J6\, Canada
END:VEVENT
BEGIN:VEVENT
DTSTART;TZID=America/Toronto:20240914T100000
DTEND;TZID=America/Toronto:20240914T100000
DTSTAMP:20260421T190538
CREATED:20240807T153731Z
LAST-MODIFIED:20240807T153731Z
UID:10000131-1726308000-1726308000@www.guelphwellingtonlip.ca
SUMMARY:English Conversation Circle with guest MPP Mike Schreiner - Main Library Board Room (100 Norfolk Street)
DESCRIPTION:Practice speaking English in a friendly and welcoming environment with special guest Mike Schreiner\, Member of Provincial Parliament (MPP). Registration is optional. Drop in attendees are welcome.
URL:https://www.guelphwellingtonlip.ca/event/english-conversation-circle-with-guest-mpp-mike-schreiner-main-library-board-room-100-norfolk-street/
LOCATION:Main Branch – Board Room\, 100 Norfolk Street\, Guelph\, Ontario\, N1H 4J6\, Canada
END:VEVENT
BEGIN:VEVENT
DTSTART;TZID=UTC:20230915T100000
DTEND;TZID=UTC:20230915T110000
DTSTAMP:20260421T190538
CREATED:20230808T152521Z
LAST-MODIFIED:20230808T154508Z
UID:10000121-1694772000-1694775600@www.guelphwellingtonlip.ca
SUMMARY:Library Tour for Newcomers
DESCRIPTION:Are you new to Canada or Guelph? Join us for this one hour tour of the main library. The tour is open to all\, but is aimed at newcomers. Learn about everything you can do at the library. Bring ID and proof of address in order to get your free library card! [Register here].
URL:https://www.guelphwellingtonlip.ca/event/library-tour-for-newcomers-3/
LOCATION:Main Branch – Program Room\, 100 Norfolk Street\, Guelph\, Ontario\, N1H 4J6\, Canada
END:VEVENT
END:VCALENDAR