BEGIN:VCALENDAR
VERSION:2.0
PRODID:-//Guelph-Wellington Local Immigration Partnership - ECPv6.15.20//NONSGML v1.0//EN
CALSCALE:GREGORIAN
METHOD:PUBLISH
X-WR-CALNAME:Guelph-Wellington Local Immigration Partnership
X-ORIGINAL-URL:https://www.guelphwellingtonlip.ca
X-WR-CALDESC:Events for Guelph-Wellington Local Immigration Partnership
REFRESH-INTERVAL;VALUE=DURATION:PT1H
X-Robots-Tag:noindex
X-PUBLISHED-TTL:PT1H
BEGIN:VTIMEZONE
TZID:America/Toronto
BEGIN:DAYLIGHT
TZOFFSETFROM:-0500
TZOFFSETTO:-0400
TZNAME:EDT
DTSTART:20230312T070000
END:DAYLIGHT
BEGIN:STANDARD
TZOFFSETFROM:-0400
TZOFFSETTO:-0500
TZNAME:EST
DTSTART:20231105T060000
END:STANDARD
BEGIN:DAYLIGHT
TZOFFSETFROM:-0500
TZOFFSETTO:-0400
TZNAME:EDT
DTSTART:20240310T070000
END:DAYLIGHT
BEGIN:STANDARD
TZOFFSETFROM:-0400
TZOFFSETTO:-0500
TZNAME:EST
DTSTART:20241103T060000
END:STANDARD
BEGIN:DAYLIGHT
TZOFFSETFROM:-0500
TZOFFSETTO:-0400
TZNAME:EDT
DTSTART:20250309T070000
END:DAYLIGHT
BEGIN:STANDARD
TZOFFSETFROM:-0400
TZOFFSETTO:-0500
TZNAME:EST
DTSTART:20251102T060000
END:STANDARD
END:VTIMEZONE
BEGIN:VEVENT
DTSTART;TZID=America/Toronto:20240918T123000
DTEND;TZID=America/Toronto:20240918T123000
DTSTAMP:20260421T202752
CREATED:20240808T144005Z
LAST-MODIFIED:20240826T181040Z
UID:10000156-1726662600-1726662600@www.guelphwellingtonlip.ca
SUMMARY:Citizenship Ceremony [by invitation only]
DESCRIPTION:Taking the Oath of Citizenship at a citizenship ceremony is your final step to become a Canadian citizen. Citizenship ceremonies take place across the country and at all times of the year.
URL:https://www.guelphwellingtonlip.ca/event/citizenship-ceremony/
ORGANIZER;CN="GWLIP":MAILTO:gwlip@guelph.ca
END:VEVENT
BEGIN:VEVENT
DTSTART;TZID=America/Toronto:20240913T093000
DTEND;TZID=America/Toronto:20240913T113000
DTSTAMP:20260421T202752
CREATED:20240808T143831Z
LAST-MODIFIED:20240808T143831Z
UID:10000155-1726219800-1726227000@www.guelphwellingtonlip.ca
SUMMARY:Welcoming Week Breakfast Reception
DESCRIPTION:Join us for a Welcoming Week 2024 Breakfast Reception!\nSeptember 13\, 9:30am – 11:30am\n–	Services for Newcomers\n–	Refreshments and breakfast (while supplies last)\n–	Guest speaker\n–	Meet elected officials \nFree and open to all!
URL:https://www.guelphwellingtonlip.ca/event/welcoming-week-breakfast-reception/
LOCATION:Guelph City Hall – Marg MacKinnon Room\, 1 Carden Street\, Guelph\, Ontario\, N1H 3A1\, Canada
ORGANIZER;CN="GWLIP":MAILTO:gwlip@guelph.ca
END:VEVENT
END:VCALENDAR