BEGIN:VCALENDAR
VERSION:2.0
PRODID:-//Guelph-Wellington Local Immigration Partnership - ECPv6.15.20//NONSGML v1.0//EN
CALSCALE:GREGORIAN
METHOD:PUBLISH
X-WR-CALNAME:Guelph-Wellington Local Immigration Partnership
X-ORIGINAL-URL:https://www.guelphwellingtonlip.ca
X-WR-CALDESC:Events for Guelph-Wellington Local Immigration Partnership
REFRESH-INTERVAL;VALUE=DURATION:PT1H
X-Robots-Tag:noindex
X-PUBLISHED-TTL:PT1H
BEGIN:VTIMEZONE
TZID:America/Toronto
BEGIN:DAYLIGHT
TZOFFSETFROM:-0500
TZOFFSETTO:-0400
TZNAME:EDT
DTSTART:20230312T070000
END:DAYLIGHT
BEGIN:STANDARD
TZOFFSETFROM:-0400
TZOFFSETTO:-0500
TZNAME:EST
DTSTART:20231105T060000
END:STANDARD
BEGIN:DAYLIGHT
TZOFFSETFROM:-0500
TZOFFSETTO:-0400
TZNAME:EDT
DTSTART:20240310T070000
END:DAYLIGHT
BEGIN:STANDARD
TZOFFSETFROM:-0400
TZOFFSETTO:-0500
TZNAME:EST
DTSTART:20241103T060000
END:STANDARD
BEGIN:DAYLIGHT
TZOFFSETFROM:-0500
TZOFFSETTO:-0400
TZNAME:EDT
DTSTART:20250309T070000
END:DAYLIGHT
BEGIN:STANDARD
TZOFFSETFROM:-0400
TZOFFSETTO:-0500
TZNAME:EST
DTSTART:20251102T060000
END:STANDARD
END:VTIMEZONE
BEGIN:VEVENT
DTSTART;TZID=America/Toronto:20240928T140000
DTEND;TZID=America/Toronto:20240928T140000
DTSTAMP:20260422T050553
CREATED:20240829T154956Z
LAST-MODIFIED:20240829T160226Z
UID:10000159-1727532000-1727532000@www.guelphwellingtonlip.ca
SUMMARY:Rotary's Family Fun Day
DESCRIPTION:New to Canada? Join us for a free\, family event. Meet other families and learn more\nabout resources to help you. Including Fun-Filled Activities and Refreshments!
URL:https://www.guelphwellingtonlip.ca/event/rotarys-family-fun-day/
LOCATION:Shelldale Community Centre\, 20 Shelldale Crescent\, Guelph\, Ontario\, N1H 1C8\, Canada
ORGANIZER;CN="Rotary Guelph Trillium":MAILTO:cwomen.admin@gmail.com
END:VEVENT
END:VCALENDAR