BEGIN:VCALENDAR
VERSION:2.0
PRODID:-//Guelph-Wellington Local Immigration Partnership - ECPv6.15.20//NONSGML v1.0//EN
CALSCALE:GREGORIAN
METHOD:PUBLISH
X-WR-CALNAME:Guelph-Wellington Local Immigration Partnership
X-ORIGINAL-URL:https://www.guelphwellingtonlip.ca
X-WR-CALDESC:Events for Guelph-Wellington Local Immigration Partnership
REFRESH-INTERVAL;VALUE=DURATION:PT1H
X-Robots-Tag:noindex
X-PUBLISHED-TTL:PT1H
BEGIN:VTIMEZONE
TZID:America/Toronto
BEGIN:DAYLIGHT
TZOFFSETFROM:-0500
TZOFFSETTO:-0400
TZNAME:EDT
DTSTART:20240310T070000
END:DAYLIGHT
BEGIN:STANDARD
TZOFFSETFROM:-0400
TZOFFSETTO:-0500
TZNAME:EST
DTSTART:20241103T060000
END:STANDARD
BEGIN:DAYLIGHT
TZOFFSETFROM:-0500
TZOFFSETTO:-0400
TZNAME:EDT
DTSTART:20250309T070000
END:DAYLIGHT
BEGIN:STANDARD
TZOFFSETFROM:-0400
TZOFFSETTO:-0500
TZNAME:EST
DTSTART:20251102T060000
END:STANDARD
BEGIN:DAYLIGHT
TZOFFSETFROM:-0500
TZOFFSETTO:-0400
TZNAME:EDT
DTSTART:20260308T070000
END:DAYLIGHT
BEGIN:STANDARD
TZOFFSETFROM:-0400
TZOFFSETTO:-0500
TZNAME:EST
DTSTART:20261101T060000
END:STANDARD
END:VTIMEZONE
BEGIN:VEVENT
DTSTART;TZID=America/Toronto:20250917T103000
DTEND;TZID=America/Toronto:20250917T110000
DTSTAMP:20260422T010222
CREATED:20250820T135133Z
LAST-MODIFIED:20250820T135133Z
UID:10000200-1758105000-1758106800@www.guelphwellingtonlip.ca
SUMMARY:Family Story Time
DESCRIPTION:Our Story Times are designed to help your child get ready for reading. Share stories\, songs\, rhymes\, and activities aimed at developing your child’s early literacy skills. Although always welcome\, Newcomers are invited to come together with other parents and caregivers in the spirit of Welcoming Week! \nContact eloralib@wellington.ca for more details.
URL:https://www.guelphwellingtonlip.ca/event/family-story-time-5/
LOCATION:Wellington County Library – Elora Branch\, 144 Geddes Street\, Elora\, Ontario\, N0B 1S0\, Canada
END:VEVENT
BEGIN:VEVENT
DTSTART;TZID=America/Toronto:20250915T160000
DTEND;TZID=America/Toronto:20250915T180000
DTSTAMP:20260422T010222
CREATED:20250820T134955Z
LAST-MODIFIED:20250820T134955Z
UID:10000199-1757952000-1757959200@www.guelphwellingtonlip.ca
SUMMARY:Paws 4 Stories
DESCRIPTION:Readers are encouraged to build new skills and gain confidence by reading aloud to a certified therapy dog. Please register at the link below. You will be contacted by your branch to book your exact twenty-minute time slot for this programme. Although always welcome\, Newcomers are invited to come together with other parents and caregivers in the spirit of Welcoming Week! \nContact rockwoodlib@wellington.ca for more details.
URL:https://www.guelphwellingtonlip.ca/event/paws-4-stories/
LOCATION:Wellington County Library – Rockwood Branch\, 121 Rockmosa Drive\, Rockwood\, Ontario\, N0B 2K0\, Canada
END:VEVENT
BEGIN:VEVENT
DTSTART;TZID=America/Toronto:20250915T103000
DTEND;TZID=America/Toronto:20250915T111500
DTSTAMP:20260422T010222
CREATED:20250820T134742Z
LAST-MODIFIED:20250820T134742Z
UID:10000198-1757932200-1757934900@www.guelphwellingtonlip.ca
SUMMARY:Family Story Time
DESCRIPTION:Our Story Times are designed to help your child get ready for reading. Share stories\, songs\, rhymes\, and activities aimed at developing your child’s early literacy skills. Although always welcome\, Newcomers are invited to come together with other parents and caregivers in the spirit of Welcoming Week! \nContact aboynelib@wellington.ca for more details.
URL:https://www.guelphwellingtonlip.ca/event/family-story-time-4/
LOCATION:Wellington County Library – Aboyne Branch\, 552 Wellington Road 18\, Fergus\, Ontario\, N1M 0A1\, Canada
END:VEVENT
BEGIN:VEVENT
DTSTART;TZID=America/Toronto:20250915T103000
DTEND;TZID=America/Toronto:20250915T111500
DTSTAMP:20260422T010222
CREATED:20250820T134622Z
LAST-MODIFIED:20250820T134622Z
UID:10000197-1757932200-1757934900@www.guelphwellingtonlip.ca
SUMMARY:Family Story Time
DESCRIPTION:Our Story Times are designed to help your child get ready for reading. Share stories\, songs\, rhymes\, and activities aimed at developing your child’s early literacy skills. Although always welcome\, Newcomers are invited to come together with other parents and caregivers in the spirit of Welcoming Week! \nContact draytonlib@wellington.ca for more details.
URL:https://www.guelphwellingtonlip.ca/event/family-story-time-3/
LOCATION:Wellington County Library – Drayton Branch\, 106 Wellington Street South\, Drayton\, Ontario\, N0G 1P0\, Canada
END:VEVENT
BEGIN:VEVENT
DTSTART;TZID=America/Toronto:20250912T103000
DTEND;TZID=America/Toronto:20250912T111500
DTSTAMP:20260422T010222
CREATED:20250820T134400Z
LAST-MODIFIED:20250820T134400Z
UID:10000196-1757673000-1757675700@www.guelphwellingtonlip.ca
SUMMARY:Family Story Time
DESCRIPTION:Our Story Times are designed to help your child get ready for reading. Share stories\, songs\, rhymes\, and activities aimed at developing your child’s early literacy skills. Although always welcome\, Newcomers are invited to come together with other parents and caregivers in the spirit of Welcoming Week! \nContact hillsburghlib@wellington.ca for more details.
URL:https://www.guelphwellingtonlip.ca/event/family-story-time-2/
LOCATION:Wellington County Library – Hillsburgh Branch\, 9 Station Street\, Hillsburgh\, Ontario\, N0B 1Z0\, Canada
END:VEVENT
BEGIN:VEVENT
DTSTART;TZID=America/Toronto:20250912T103000
DTEND;TZID=America/Toronto:20250912T110000
DTSTAMP:20260422T010222
CREATED:20250820T134217Z
LAST-MODIFIED:20250820T134217Z
UID:10000195-1757673000-1757674800@www.guelphwellingtonlip.ca
SUMMARY:Family Story Time
DESCRIPTION:Our Story Times are designed to help your child get ready for reading. Share stories\, songs\, rhymes\, and activities aimed at developing your child’s early literacy skills. Although always welcome\, Newcomers are invited to come together with other parents and caregivers in the spirit of Welcoming Week! \nContact arthurlib@wellington.ca for more details. \n 
URL:https://www.guelphwellingtonlip.ca/event/family-story-time/
END:VEVENT
END:VCALENDAR