BEGIN:VCALENDAR
VERSION:2.0
PRODID:-//Guelph-Wellington Local Immigration Partnership - ECPv6.15.20//NONSGML v1.0//EN
CALSCALE:GREGORIAN
METHOD:PUBLISH
X-ORIGINAL-URL:https://www.guelphwellingtonlip.ca
X-WR-CALDESC:Events for Guelph-Wellington Local Immigration Partnership
REFRESH-INTERVAL;VALUE=DURATION:PT1H
X-Robots-Tag:noindex
X-PUBLISHED-TTL:PT1H
BEGIN:VTIMEZONE
TZID:America/Toronto
BEGIN:DAYLIGHT
TZOFFSETFROM:-0500
TZOFFSETTO:-0400
TZNAME:EDT
DTSTART:20230312T070000
END:DAYLIGHT
BEGIN:STANDARD
TZOFFSETFROM:-0400
TZOFFSETTO:-0500
TZNAME:EST
DTSTART:20231105T060000
END:STANDARD
BEGIN:DAYLIGHT
TZOFFSETFROM:-0500
TZOFFSETTO:-0400
TZNAME:EDT
DTSTART:20240310T070000
END:DAYLIGHT
BEGIN:STANDARD
TZOFFSETFROM:-0400
TZOFFSETTO:-0500
TZNAME:EST
DTSTART:20241103T060000
END:STANDARD
BEGIN:DAYLIGHT
TZOFFSETFROM:-0500
TZOFFSETTO:-0400
TZNAME:EDT
DTSTART:20250309T070000
END:DAYLIGHT
BEGIN:STANDARD
TZOFFSETFROM:-0400
TZOFFSETTO:-0500
TZNAME:EST
DTSTART:20251102T060000
END:STANDARD
BEGIN:DAYLIGHT
TZOFFSETFROM:-0500
TZOFFSETTO:-0400
TZNAME:EDT
DTSTART:20260308T070000
END:DAYLIGHT
BEGIN:STANDARD
TZOFFSETFROM:-0400
TZOFFSETTO:-0500
TZNAME:EST
DTSTART:20261101T060000
END:STANDARD
END:VTIMEZONE
BEGIN:VTIMEZONE
TZID:UTC
BEGIN:STANDARD
TZOFFSETFROM:+0000
TZOFFSETTO:+0000
TZNAME:UTC
DTSTART:20220101T000000
END:STANDARD
END:VTIMEZONE
BEGIN:VEVENT
DTSTART;TZID=America/Toronto:20250801T110000
DTEND;TZID=America/Toronto:20250801T110000
DTSTAMP:20260422T012702
CREATED:20250808T170636Z
LAST-MODIFIED:20250808T170636Z
UID:10000168-1754046000-1754046000@www.guelphwellingtonlip.ca
SUMMARY:Newcomer Youth Stories of Belonging Event
DESCRIPTION:Newcomer students will participate in writing event where they will write about their personal experience in they journey of making Canada their Home. \nN.B. Open to ISGW clients only. \nContact adovban@is-gw.ca for more details.
URL:https://www.guelphwellingtonlip.ca/event/newcomer-youth-stories-of-belonging-event/
LOCATION:104 Dawson Rd\, Guelph\, ON N1H 1A6\, 104 Dawson Road\, Guelph\, Ontario\, N1H 1A6\, Canada
ORGANIZER;CN="Immigrant Services Guelph Wellington (ISGW)":MAILTO:svenugopal@is-gw.ca
END:VEVENT
BEGIN:VEVENT
DTSTART;TZID=America/Toronto:20240914T090000
DTEND;TZID=America/Toronto:20240914T090000
DTSTAMP:20260422T012702
CREATED:20240807T144026Z
LAST-MODIFIED:20240807T155602Z
UID:10000083-1726304400-1726304400@www.guelphwellingtonlip.ca
SUMMARY:Explore Wellington County: Newcomer Bus Tour
DESCRIPTION:Join us for an exciting day of discovery as we explore the beautiful Wellington County! This guided bus tour in partnership with Immigrant Services Guelph-Welington is designed for newcomers to get acquainted with Wellington County\, its vibrant townships and towns\, and key local amenities. Enjoy informative stops\, meet local residents\, and learn about the County’s rich history and culture. Whether you are new to the area or just looking to explore\, this tour is a perfect introduction to all that Wellington County has to offer.
URL:https://www.guelphwellingtonlip.ca/event/explore-wellington-county-newcomer-bus-tour/
LOCATION:104 Dawson Rd\, Guelph\, ON N1H 1A6\, 104 Dawson Road\, Guelph\, Ontario\, N1H 1A6\, Canada
ORGANIZER;CN="County of Wellington":MAILTO:Anuradhad@wellington.ca
END:VEVENT
BEGIN:VEVENT
DTSTART;TZID=UTC:20230916T100000
DTEND;TZID=UTC:20230916T120000
DTSTAMP:20260422T012702
CREATED:20230808T153420Z
LAST-MODIFIED:20230913T184536Z
UID:10000122-1694858400-1694865600@www.guelphwellingtonlip.ca
SUMMARY:International Fair / Welcome to Guelph
DESCRIPTION:A fun event to invite new immigrants and families to find out more about Guelph and the resources available.
URL:https://www.guelphwellingtonlip.ca/event/international-fair-welcome-to-guelph/
LOCATION:104 Dawson Rd\, Guelph\, ON N1H 1A6\, 104 Dawson Road\, Guelph\, Ontario\, N1H 1A6\, Canada
ORGANIZER;CN="Immigrant Services Guelph Wellington (ISGW)":MAILTO:svenugopal@is-gw.ca
END:VEVENT
END:VCALENDAR