BEGIN:VCALENDAR
VERSION:2.0
PRODID:-//Guelph-Wellington Local Immigration Partnership - ECPv6.15.20//NONSGML v1.0//EN
CALSCALE:GREGORIAN
METHOD:PUBLISH
X-ORIGINAL-URL:https://www.guelphwellingtonlip.ca
X-WR-CALDESC:Events for Guelph-Wellington Local Immigration Partnership
REFRESH-INTERVAL;VALUE=DURATION:PT1H
X-Robots-Tag:noindex
X-PUBLISHED-TTL:PT1H
BEGIN:VTIMEZONE
TZID:America/Toronto
BEGIN:DAYLIGHT
TZOFFSETFROM:-0500
TZOFFSETTO:-0400
TZNAME:EDT
DTSTART:20240310T070000
END:DAYLIGHT
BEGIN:STANDARD
TZOFFSETFROM:-0400
TZOFFSETTO:-0500
TZNAME:EST
DTSTART:20241103T060000
END:STANDARD
BEGIN:DAYLIGHT
TZOFFSETFROM:-0500
TZOFFSETTO:-0400
TZNAME:EDT
DTSTART:20250309T070000
END:DAYLIGHT
BEGIN:STANDARD
TZOFFSETFROM:-0400
TZOFFSETTO:-0500
TZNAME:EST
DTSTART:20251102T060000
END:STANDARD
BEGIN:DAYLIGHT
TZOFFSETFROM:-0500
TZOFFSETTO:-0400
TZNAME:EDT
DTSTART:20260308T070000
END:DAYLIGHT
BEGIN:STANDARD
TZOFFSETFROM:-0400
TZOFFSETTO:-0500
TZNAME:EST
DTSTART:20261101T060000
END:STANDARD
END:VTIMEZONE
BEGIN:VTIMEZONE
TZID:UTC
BEGIN:STANDARD
TZOFFSETFROM:+0000
TZOFFSETTO:+0000
TZNAME:UTC
DTSTART:20220101T000000
END:STANDARD
END:VTIMEZONE
BEGIN:VEVENT
DTSTART;TZID=America/Toronto:20250916T133000
DTEND;TZID=America/Toronto:20250916T133000
DTSTAMP:20260422T011926
CREATED:20250808T171038Z
LAST-MODIFIED:20250808T171038Z
UID:10000170-1758029400-1758029400@www.guelphwellingtonlip.ca
SUMMARY:Open House & Information Session
DESCRIPTION:Join us for an engaging Open House and Information Session at the 2nd Chance Employment Counselling Downtown Office\, located at 177 Norfolk Street in Downtown Guelph. This is a great opportunity to tour our facility\, meet our team\, and learn more about the services we offer to support your job search and career goals. \nContact osengul@2ndchance.ca for more details.
URL:https://www.guelphwellingtonlip.ca/event/open-house-information-session/
LOCATION:2nd Chance Downtown Office\, 177 Norfolk Street\, Guelph\, Ontario\, N1H 4K1
ORGANIZER;CN="2nd Chance Employment Services":MAILTO:sgordon@2ndchance.ca
END:VEVENT
BEGIN:VEVENT
DTSTART;TZID=UTC:20230914T130000
DTEND;TZID=UTC:20230914T150000
DTSTAMP:20260422T011926
CREATED:20230825T124300Z
LAST-MODIFIED:20230825T124300Z
UID:10000126-1694696400-1694703600@www.guelphwellingtonlip.ca
SUMMARY:2nd Chance Employment Services Open House
DESCRIPTION:Drop in to our downtown location and find out what employment services we offer.  No registration required.
URL:https://www.guelphwellingtonlip.ca/event/2nd-chance-employment-services-open-house/
LOCATION:2nd Chance Downtown Office\, 177 Norfolk Street\, Guelph\, Ontario\, N1H 4K1
END:VEVENT
END:VCALENDAR