BEGIN:VCALENDAR
VERSION:2.0
PRODID:-//Guelph-Wellington Local Immigration Partnership - ECPv6.15.20//NONSGML v1.0//EN
CALSCALE:GREGORIAN
METHOD:PUBLISH
X-WR-CALNAME:Guelph-Wellington Local Immigration Partnership
X-ORIGINAL-URL:https://www.guelphwellingtonlip.ca
X-WR-CALDESC:Events for Guelph-Wellington Local Immigration Partnership
REFRESH-INTERVAL;VALUE=DURATION:PT1H
X-Robots-Tag:noindex
X-PUBLISHED-TTL:PT1H
BEGIN:VTIMEZONE
TZID:UTC
BEGIN:STANDARD
TZOFFSETFROM:+0000
TZOFFSETTO:+0000
TZNAME:UTC
DTSTART:20220101T000000
END:STANDARD
END:VTIMEZONE
BEGIN:VEVENT
DTSTART;TZID=UTC:20230913T173000
DTEND;TZID=UTC:20230913T193000
DTSTAMP:20260422T112005
CREATED:20230808T150930Z
LAST-MODIFIED:20230808T154617Z
UID:10000117-1694626200-1694633400@www.guelphwellingtonlip.ca
SUMMARY:Art Social
DESCRIPTION:Art Not Shame invites you to get creative and have fun at an Art Social. We will have several stations set up with all the materials you need to explore different art mediums.
URL:https://www.guelphwellingtonlip.ca/event/art-social/
LOCATION:4th Floor\, 10C (42 Carden St. Downtown Guelph)\, 42 Carden Street\, Guelph\, Ontario\, N1H 3A2\, Canada
ORGANIZER;CN="Art Not Shame":MAILTO:alisa.mcronald@artnotshame.org
END:VEVENT
END:VCALENDAR