BEGIN:VCALENDAR
VERSION:2.0
PRODID:-//Guelph-Wellington Local Immigration Partnership - ECPv6.15.20//NONSGML v1.0//EN
CALSCALE:GREGORIAN
METHOD:PUBLISH
X-ORIGINAL-URL:https://www.guelphwellingtonlip.ca
X-WR-CALDESC:Events for Guelph-Wellington Local Immigration Partnership
REFRESH-INTERVAL;VALUE=DURATION:PT1H
X-Robots-Tag:noindex
X-PUBLISHED-TTL:PT1H
BEGIN:VTIMEZONE
TZID:America/Toronto
BEGIN:DAYLIGHT
TZOFFSETFROM:-0500
TZOFFSETTO:-0400
TZNAME:EDT
DTSTART:20230312T070000
END:DAYLIGHT
BEGIN:STANDARD
TZOFFSETFROM:-0400
TZOFFSETTO:-0500
TZNAME:EST
DTSTART:20231105T060000
END:STANDARD
BEGIN:DAYLIGHT
TZOFFSETFROM:-0500
TZOFFSETTO:-0400
TZNAME:EDT
DTSTART:20240310T070000
END:DAYLIGHT
BEGIN:STANDARD
TZOFFSETFROM:-0400
TZOFFSETTO:-0500
TZNAME:EST
DTSTART:20241103T060000
END:STANDARD
BEGIN:DAYLIGHT
TZOFFSETFROM:-0500
TZOFFSETTO:-0400
TZNAME:EDT
DTSTART:20250309T070000
END:DAYLIGHT
BEGIN:STANDARD
TZOFFSETFROM:-0400
TZOFFSETTO:-0500
TZNAME:EST
DTSTART:20251102T060000
END:STANDARD
BEGIN:DAYLIGHT
TZOFFSETFROM:-0500
TZOFFSETTO:-0400
TZNAME:EDT
DTSTART:20260308T070000
END:DAYLIGHT
BEGIN:STANDARD
TZOFFSETFROM:-0400
TZOFFSETTO:-0500
TZNAME:EST
DTSTART:20261101T060000
END:STANDARD
END:VTIMEZONE
BEGIN:VTIMEZONE
TZID:UTC
BEGIN:STANDARD
TZOFFSETFROM:+0000
TZOFFSETTO:+0000
TZNAME:UTC
DTSTART:20220101T000000
END:STANDARD
END:VTIMEZONE
BEGIN:VEVENT
DTSTART;TZID=America/Toronto:20250921T130000
DTEND;TZID=America/Toronto:20250921T130000
DTSTAMP:20260422T051351
CREATED:20250812T134744Z
LAST-MODIFIED:20250812T134744Z
UID:10000189-1758459600-1758459600@www.guelphwellingtonlip.ca
SUMMARY:Making Roots: Art Workshop with Taras Lachowsky
DESCRIPTION:Celebrate connection\, creativity\, and community with Guelph-based Ukrainian artist Taras Lachowsky during this special Welcoming Week art workshop. Designed to bring together longtime residents and newcomers alike\, this drop-in session invites participants to explore the unifying power of art through hands-on creativity. Guided by Lachowsky\, you’ll experiment with a variety of artmaking techniques while reflecting on the symbol of the tree – a powerful metaphor for connection\, growth\, and setting down roots in a new place. Whether you’re new to Guelph or have called it home forever\, this workshop offers a space to share stories\, make art\, and build community. Welcoming Week is a global annual campaign that connects neighbours of all backgrounds through community activities and events\, reaffirming welcoming values\, fostering a mutual understanding between immigrants and non-immigrants\, and building a deeper sense of belonging for Newcomers and all. About the Artist: Taras Lachowsky is a multidisciplinary artist whose work is deeply rooted in his Ukrainian heritage and community engagement. Based in Guelph\, Lachowsky blends traditional and contemporary techniques to explore themes of identity\, belonging\, and cultural resilience. His workshops are known for fostering inclusive\, reflective spaces where creativity becomes a bridge between people and cultures. \nPlease contact Jagroop.Mehta@guelph.ca for more details.
URL:https://www.guelphwellingtonlip.ca/event/making-roots-art-workshop-with-taras-lachowsky/
LOCATION:Guelph Civic Museum\, 52 Norfolk Street\, Guelph\, Ontario\, N1H 4H8\, Canada
ORGANIZER;CN="Guelph Museums":MAILTO:jagroop.mehta@guelph.ca
END:VEVENT
BEGIN:VEVENT
DTSTART;TZID=America/Toronto:20250920T100000
DTEND;TZID=America/Toronto:20250921T160000
DTSTAMP:20260422T051351
CREATED:20250812T134852Z
LAST-MODIFIED:20250812T134852Z
UID:10000190-1758362400-1758470400@www.guelphwellingtonlip.ca
SUMMARY:Welcoming All to Guelph Museums
DESCRIPTION:Free admission to the museum on the weekend of 20-21 September!
URL:https://www.guelphwellingtonlip.ca/event/welcoming-all-to-guelph-museums/
LOCATION:Guelph Civic Museum\, 52 Norfolk Street\, Guelph\, Ontario\, N1H 4H8\, Canada
ORGANIZER;CN="Guelph Museums":MAILTO:jagroop.mehta@guelph.ca
END:VEVENT
BEGIN:VEVENT
DTSTART;TZID=America/Toronto:20240919T190000
DTEND;TZID=America/Toronto:20240919T190000
DTSTAMP:20260422T051351
CREATED:20240815T134614Z
LAST-MODIFIED:20240815T134614Z
UID:10000158-1726772400-1726772400@www.guelphwellingtonlip.ca
SUMMARY:Endgame: The Secret Force 136 – a lecture by Catherine Little
DESCRIPTION:As part of Guelph Museums’ Military Lecture Series\, Catherine Little explores the contributions of Chinese Immigrants to Canada’s Second World War efforts.
URL:https://www.guelphwellingtonlip.ca/event/endgame-the-secret-force-136-a-lecture-by-catherine-little/
LOCATION:Guelph Civic Museum\, 52 Norfolk Street\, Guelph\, Ontario\, N1H 4H8\, Canada
ORGANIZER;CN="Guelph Museums and Culture":MAILTO:museum@guelph.ca
END:VEVENT
BEGIN:VEVENT
DTSTART;TZID=UTC:20230912T170000
DTEND;TZID=UTC:20230912T183000
DTSTAMP:20260422T051351
CREATED:20230808T145225Z
LAST-MODIFIED:20230808T154703Z
UID:10000115-1694538000-1694543400@www.guelphwellingtonlip.ca
SUMMARY:Rhyme Capsule
DESCRIPTION:During this event\, your stories and experiences will be captured in an engaging workshop facilitated by James Gordon and transformed into song\, poetry\, and performance pieces. It’s a perfect opportunity to meet new people\, make friends\, and learn about different traditions. [Register here].
URL:https://www.guelphwellingtonlip.ca/event/rhyme-capsule/
LOCATION:Guelph Civic Museum\, 52 Norfolk Street\, Guelph\, Ontario\, N1H 4H8\, Canada
END:VEVENT
END:VCALENDAR