BEGIN:VCALENDAR
VERSION:2.0
PRODID:-//Guelph-Wellington Local Immigration Partnership - ECPv6.15.20//NONSGML v1.0//EN
CALSCALE:GREGORIAN
METHOD:PUBLISH
X-ORIGINAL-URL:https://www.guelphwellingtonlip.ca
X-WR-CALDESC:Events for Guelph-Wellington Local Immigration Partnership
REFRESH-INTERVAL;VALUE=DURATION:PT1H
X-Robots-Tag:noindex
X-PUBLISHED-TTL:PT1H
BEGIN:VTIMEZONE
TZID:America/Toronto
BEGIN:DAYLIGHT
TZOFFSETFROM:-0500
TZOFFSETTO:-0400
TZNAME:EDT
DTSTART:20230312T070000
END:DAYLIGHT
BEGIN:STANDARD
TZOFFSETFROM:-0400
TZOFFSETTO:-0500
TZNAME:EST
DTSTART:20231105T060000
END:STANDARD
BEGIN:DAYLIGHT
TZOFFSETFROM:-0500
TZOFFSETTO:-0400
TZNAME:EDT
DTSTART:20240310T070000
END:DAYLIGHT
BEGIN:STANDARD
TZOFFSETFROM:-0400
TZOFFSETTO:-0500
TZNAME:EST
DTSTART:20241103T060000
END:STANDARD
BEGIN:DAYLIGHT
TZOFFSETFROM:-0500
TZOFFSETTO:-0400
TZNAME:EDT
DTSTART:20250309T070000
END:DAYLIGHT
BEGIN:STANDARD
TZOFFSETFROM:-0400
TZOFFSETTO:-0500
TZNAME:EST
DTSTART:20251102T060000
END:STANDARD
BEGIN:DAYLIGHT
TZOFFSETFROM:-0500
TZOFFSETTO:-0400
TZNAME:EDT
DTSTART:20260308T070000
END:DAYLIGHT
BEGIN:STANDARD
TZOFFSETFROM:-0400
TZOFFSETTO:-0500
TZNAME:EST
DTSTART:20261101T060000
END:STANDARD
END:VTIMEZONE
BEGIN:VTIMEZONE
TZID:UTC
BEGIN:STANDARD
TZOFFSETFROM:+0000
TZOFFSETTO:+0000
TZNAME:UTC
DTSTART:20220101T000000
END:STANDARD
END:VTIMEZONE
BEGIN:VEVENT
DTSTART;TZID=America/Toronto:20250918T140000
DTEND;TZID=America/Toronto:20250918T140000
DTSTAMP:20260421T140910
CREATED:20250808T164757Z
LAST-MODIFIED:20250808T164757Z
UID:10000166-1758204000-1758204000@www.guelphwellingtonlip.ca
SUMMARY:Digital Equity Information
DESCRIPTION:In celebration of Guelph Wellington Welcoming Week 2025 (September 12–21)\, the Guelph Wellington Digital Equity Coalition (GWDEC) is reinforcing its commitment to closing the digital divide. We are actively developing a community-informed plan to advance digital equity\, so that everyone regardless of background can fully benefit from the opportunities that technology provides. Sessions will be organized both online In-person to enlighten the communities on data plan\, access to both internet and digital skill training. \nContact eowusuas@uoguelph.ca for more information.
URL:https://www.guelphwellingtonlip.ca/event/digital-equity-information/
LOCATION:Guelph City Hall\, 1 Carden Street\, Guelph\, Ontario\, N1H 3A1\, Canada
END:VEVENT
BEGIN:VEVENT
DTSTART;TZID=America/Toronto:20250911T093000
DTEND;TZID=America/Toronto:20250911T113000
DTSTAMP:20260421T140910
CREATED:20250819T161125Z
LAST-MODIFIED:20250819T161143Z
UID:10000192-1757583000-1757590200@www.guelphwellingtonlip.ca
SUMMARY:Welcoming Week Breakfast Reception
DESCRIPTION:Come learn about a wide variety of community services\, hear from elected officials\, and learn about the importance of welcoming and inclusive communities. \nAnd enjoy a free breakfast on us! \nContact gwlip@guelph.ca for more details.
URL:https://www.guelphwellingtonlip.ca/event/welcoming-week-breakfast-reception-2/
LOCATION:Guelph City Hall\, 1 Carden Street\, Guelph\, Ontario\, N1H 3A1\, Canada
END:VEVENT
BEGIN:VEVENT
DTSTART;TZID=America/Toronto:20240918T130000
DTEND;TZID=America/Toronto:20240918T130000
DTSTAMP:20260421T140910
CREATED:20240807T140900Z
LAST-MODIFIED:20240807T141001Z
UID:10000079-1726664400-1726664400@www.guelphwellingtonlip.ca
SUMMARY:How to start a small business in Guelph and Wellington County
DESCRIPTION:Join us to learn about launching or growing a business in Guelph-Wellington County with an introduction from the Business Centre Guelph-Wellington.
URL:https://www.guelphwellingtonlip.ca/event/how-to-start-a-small-business-in-guelph-and-wellington-county/
LOCATION:Guelph City Hall\, 1 Carden Street\, Guelph\, Ontario\, N1H 3A1\, Canada
END:VEVENT
BEGIN:VEVENT
DTSTART;TZID=UTC:20230912T130000
DTEND;TZID=UTC:20230912T140000
DTSTAMP:20260421T140910
CREATED:20230808T144532Z
LAST-MODIFIED:20230808T154731Z
UID:10000112-1694523600-1694527200@www.guelphwellingtonlip.ca
SUMMARY:Introduction to Guelph City Hall and launching a Business in Guelph
DESCRIPTION:Join us to learn about launching or growing a business in Guelph-Wellington County. We will then take a tour of City Hall to learn about the various supports and services for small businesses. Our day will end with a guided tour of Downtown Guelph with Guelph Tourism. [Register here].
URL:https://www.guelphwellingtonlip.ca/event/introduction-to-guelph-city-hall-and-launching-a-business-in-guelph/
LOCATION:Guelph City Hall\, 1 Carden Street\, Guelph\, Ontario\, N1H 3A1\, Canada
END:VEVENT
END:VCALENDAR