BEGIN:VCALENDAR
VERSION:2.0
PRODID:-//Guelph-Wellington Local Immigration Partnership - ECPv6.15.20//NONSGML v1.0//EN
CALSCALE:GREGORIAN
METHOD:PUBLISH
X-WR-CALNAME:Guelph-Wellington Local Immigration Partnership
X-ORIGINAL-URL:https://www.guelphwellingtonlip.ca
X-WR-CALDESC:Events for Guelph-Wellington Local Immigration Partnership
REFRESH-INTERVAL;VALUE=DURATION:PT1H
X-Robots-Tag:noindex
X-PUBLISHED-TTL:PT1H
BEGIN:VTIMEZONE
TZID:UTC
BEGIN:STANDARD
TZOFFSETFROM:+0000
TZOFFSETTO:+0000
TZNAME:UTC
DTSTART:20160101T000000
END:STANDARD
END:VTIMEZONE
BEGIN:VEVENT
DTSTART;TZID=UTC:20171108T160000
DTEND;TZID=UTC:20171108T180000
DTSTAMP:20260422T201119
CREATED:20170615T163154Z
LAST-MODIFIED:20171115T144533Z
UID:10000064-1510156800-1510164000@www.guelphwellingtonlip.ca
SUMMARY:Leadership Council Meeting - November 8
DESCRIPTION:LC Meeting Agenda – Nov. 8\, 2017 \nLC Meeting Minutes – Nov. 8\, 2017
URL:https://www.guelphwellingtonlip.ca/event/leadership-council-meeting-november-8/
LOCATION:Guelph City Hall\, Room 112
END:VEVENT
BEGIN:VEVENT
DTSTART;TZID=UTC:20170612T160000
DTEND;TZID=UTC:20170612T180000
DTSTAMP:20260422T201119
CREATED:20170831T162118Z
LAST-MODIFIED:20170831T170455Z
UID:10000070-1497283200-1497290400@www.guelphwellingtonlip.ca
SUMMARY:Leadership Council Meeting - June 12
DESCRIPTION:LC Meeting Minutes – June 12\, 2017
URL:https://www.guelphwellingtonlip.ca/event/leadership-council-meeting-june-12/
LOCATION:Guelph City Hall\, Room 112
END:VEVENT
BEGIN:VEVENT
DTSTART;TZID=UTC:20170221T160000
DTEND;TZID=UTC:20170221T180000
DTSTAMP:20260422T201119
CREATED:20170831T162032Z
LAST-MODIFIED:20170831T170514Z
UID:10000069-1487692800-1487700000@www.guelphwellingtonlip.ca
SUMMARY:Leadership Council Meeting - February 21
DESCRIPTION:LC Meeting Minutes – February 21\, 2017
URL:https://www.guelphwellingtonlip.ca/event/leadership-council-meeting-february-21/
LOCATION:Guelph City Hall\, Room 112
END:VEVENT
END:VCALENDAR