BEGIN:VCALENDAR
VERSION:2.0
PRODID:-//Guelph-Wellington Local Immigration Partnership - ECPv6.15.20//NONSGML v1.0//EN
CALSCALE:GREGORIAN
METHOD:PUBLISH
X-WR-CALNAME:Guelph-Wellington Local Immigration Partnership
X-ORIGINAL-URL:https://www.guelphwellingtonlip.ca
X-WR-CALDESC:Events for Guelph-Wellington Local Immigration Partnership
REFRESH-INTERVAL;VALUE=DURATION:PT1H
X-Robots-Tag:noindex
X-PUBLISHED-TTL:PT1H
BEGIN:VTIMEZONE
TZID:UTC
BEGIN:STANDARD
TZOFFSETFROM:+0000
TZOFFSETTO:+0000
TZNAME:UTC
DTSTART:20160101T000000
END:STANDARD
END:VTIMEZONE
BEGIN:VEVENT
DTSTART;TZID=UTC:20180124T100000
DTEND;TZID=UTC:20180124T113000
DTSTAMP:20260422T201715
CREATED:20170831T161405Z
LAST-MODIFIED:20170831T161420Z
UID:10000068-1516788000-1516793400@www.guelphwellingtonlip.ca
SUMMARY:Operations Team Meeting - January 24
DESCRIPTION:
URL:https://www.guelphwellingtonlip.ca/event/operations-team-meeting-january-24/
LOCATION:Guelph City Hall\, Room A
END:VEVENT
BEGIN:VEVENT
DTSTART;TZID=UTC:20171101T100000
DTEND;TZID=UTC:20171101T113000
DTSTAMP:20260422T201715
CREATED:20170831T161250Z
LAST-MODIFIED:20170831T161250Z
UID:10000067-1509530400-1509535800@www.guelphwellingtonlip.ca
SUMMARY:Operations Team Meeting - November 1
DESCRIPTION:
URL:https://www.guelphwellingtonlip.ca/event/operations-team-meeting-november-1/
LOCATION:Guelph City Hall\, Room A
END:VEVENT
BEGIN:VEVENT
DTSTART;TZID=UTC:20170906T100000
DTEND;TZID=UTC:20170906T113000
DTSTAMP:20260422T201716
CREATED:20170615T163317Z
LAST-MODIFIED:20170831T161130Z
UID:10000066-1504692000-1504697400@www.guelphwellingtonlip.ca
SUMMARY:Operations Team Meeting - September 6
DESCRIPTION:
URL:https://www.guelphwellingtonlip.ca/event/leadership-council-meeting-march-21/
LOCATION:Guelph City Hall\, Room A
END:VEVENT
END:VCALENDAR