BEGIN:VCALENDAR
VERSION:2.0
PRODID:-//Guelph-Wellington Local Immigration Partnership - ECPv6.15.20//NONSGML v1.0//EN
CALSCALE:GREGORIAN
METHOD:PUBLISH
X-ORIGINAL-URL:https://www.guelphwellingtonlip.ca
X-WR-CALDESC:Events for Guelph-Wellington Local Immigration Partnership
REFRESH-INTERVAL;VALUE=DURATION:PT1H
X-Robots-Tag:noindex
X-PUBLISHED-TTL:PT1H
BEGIN:VTIMEZONE
TZID:UTC
BEGIN:STANDARD
TZOFFSETFROM:+0000
TZOFFSETTO:+0000
TZNAME:UTC
DTSTART:20170101T000000
END:STANDARD
END:VTIMEZONE
BEGIN:VEVENT
DTSTART;TZID=UTC:20190123T100000
DTEND;TZID=UTC:20190123T113000
DTSTAMP:20260422T190822
CREATED:20180605T145359Z
LAST-MODIFIED:20180605T145359Z
UID:10000088-1548237600-1548243000@www.guelphwellingtonlip.ca
SUMMARY:Strategic Planning Team Meeting - January 23\, 2019
DESCRIPTION:
URL:https://www.guelphwellingtonlip.ca/event/strategic-planning-team-meeting-january-23-2019/
LOCATION:Guelph City Hall\, Room B
END:VEVENT
BEGIN:VEVENT
DTSTART;TZID=UTC:20181205T100000
DTEND;TZID=UTC:20181205T113000
DTSTAMP:20260422T190822
CREATED:20180605T145207Z
LAST-MODIFIED:20180605T145207Z
UID:10000086-1544004000-1544009400@www.guelphwellingtonlip.ca
SUMMARY:Strategic Planning Team Meeting - December 5\, 2018
DESCRIPTION:
URL:https://www.guelphwellingtonlip.ca/event/strategic-planning-team-meeting-december-5-2018/
LOCATION:Guelph City Hall\, Room B
END:VEVENT
BEGIN:VEVENT
DTSTART;TZID=UTC:20180920T130000
DTEND;TZID=UTC:20180920T150000
DTSTAMP:20260422T190822
CREATED:20180605T145011Z
LAST-MODIFIED:20180822T184020Z
UID:10000082-1537448400-1537455600@www.guelphwellingtonlip.ca
SUMMARY:Strategic Planning Team Meeting - September 20\, 2018
DESCRIPTION:
URL:https://www.guelphwellingtonlip.ca/event/strategic-planning-team-meeting-october-3-2018/
LOCATION:Guelph City Hall\, Room B
END:VEVENT
BEGIN:VEVENT
DTSTART;TZID=UTC:20180613T133000
DTEND;TZID=UTC:20180613T150000
DTSTAMP:20260422T190822
CREATED:20180605T144605Z
LAST-MODIFIED:20180716T183112Z
UID:10000080-1528896600-1528902000@www.guelphwellingtonlip.ca
SUMMARY:Leadership Council Meeting - June 13\, 2018
DESCRIPTION:LC Meeting Agenda – June 13\, 2018 \nLC Meeting Minutes – June 13\, 2018
URL:https://www.guelphwellingtonlip.ca/event/leadership-council-meeting-june-13-2018/
LOCATION:Guelph City Hall\, Room B
END:VEVENT
BEGIN:VEVENT
DTSTART;TZID=UTC:20180606T100000
DTEND;TZID=UTC:20180606T113000
DTSTAMP:20260422T190822
CREATED:20180605T144416Z
LAST-MODIFIED:20180605T144628Z
UID:10000078-1528279200-1528284600@www.guelphwellingtonlip.ca
SUMMARY:Strategic Planning Team Meeting - June 6\, 2018
DESCRIPTION:
URL:https://www.guelphwellingtonlip.ca/event/strategic-planning-team-meeting-june-6-2018/
LOCATION:Guelph City Hall\, Room B
END:VEVENT
BEGIN:VEVENT
DTSTART;TZID=UTC:20180215T133000
DTEND;TZID=UTC:20180215T150000
DTSTAMP:20260422T190822
CREATED:20180228T143203Z
LAST-MODIFIED:20180228T143236Z
UID:10000074-1518701400-1518706800@www.guelphwellingtonlip.ca
SUMMARY:Strategic Planning Team Meeting - February 15
DESCRIPTION:
URL:https://www.guelphwellingtonlip.ca/event/strategic-planning-team-meeting-february-15/
LOCATION:Guelph City Hall\, Room B
END:VEVENT
BEGIN:VEVENT
DTSTART;TZID=UTC:20180131T133000
DTEND;TZID=UTC:20180131T150000
DTSTAMP:20260422T190822
CREATED:20170615T163241Z
LAST-MODIFIED:20180228T142745Z
UID:10000065-1517405400-1517410800@www.guelphwellingtonlip.ca
SUMMARY:Leadership Council Meeting - January 31
DESCRIPTION:LC Meeting Agenda – Jan. 31\, 2018 \nLC Meeting Minutes – Jan. 31\, 2018
URL:https://www.guelphwellingtonlip.ca/event/leadership-council-meeting-january-31/
LOCATION:Guelph City Hall\, Room B
END:VEVENT
END:VCALENDAR