BEGIN:VCALENDAR
VERSION:2.0
PRODID:-//Guelph-Wellington Local Immigration Partnership - ECPv6.15.20//NONSGML v1.0//EN
CALSCALE:GREGORIAN
METHOD:PUBLISH
X-WR-CALNAME:Guelph-Wellington Local Immigration Partnership
X-ORIGINAL-URL:https://www.guelphwellingtonlip.ca
X-WR-CALDESC:Events for Guelph-Wellington Local Immigration Partnership
REFRESH-INTERVAL;VALUE=DURATION:PT1H
X-Robots-Tag:noindex
X-PUBLISHED-TTL:PT1H
BEGIN:VTIMEZONE
TZID:UTC
BEGIN:STANDARD
TZOFFSETFROM:+0000
TZOFFSETTO:+0000
TZNAME:UTC
DTSTART:20160101T000000
END:STANDARD
END:VTIMEZONE
BEGIN:VEVENT
DTSTART;TZID=UTC:20170913T160000
DTEND;TZID=UTC:20170913T180000
DTSTAMP:20260422T200544
CREATED:20170615T162920Z
LAST-MODIFIED:20171002T170407Z
UID:10000063-1505318400-1505325600@www.guelphwellingtonlip.ca
SUMMARY:Leadership Council Meeting - September 13
DESCRIPTION:LC Meeting Minutes – September 13\, 2017
URL:https://www.guelphwellingtonlip.ca/event/leadership-council-meeting-september-13/
LOCATION:Guelph City Hall\, Room C
END:VEVENT
END:VCALENDAR