BEGIN:VCALENDAR
VERSION:2.0
PRODID:-//Guelph-Wellington Local Immigration Partnership - ECPv6.15.20//NONSGML v1.0//EN
CALSCALE:GREGORIAN
METHOD:PUBLISH
X-WR-CALNAME:Guelph-Wellington Local Immigration Partnership
X-ORIGINAL-URL:https://www.guelphwellingtonlip.ca
X-WR-CALDESC:Events for Guelph-Wellington Local Immigration Partnership
REFRESH-INTERVAL;VALUE=DURATION:PT1H
X-Robots-Tag:noindex
X-PUBLISHED-TTL:PT1H
BEGIN:VTIMEZONE
TZID:America/Toronto
BEGIN:DAYLIGHT
TZOFFSETFROM:-0500
TZOFFSETTO:-0400
TZNAME:EDT
DTSTART:20230312T070000
END:DAYLIGHT
BEGIN:STANDARD
TZOFFSETFROM:-0400
TZOFFSETTO:-0500
TZNAME:EST
DTSTART:20231105T060000
END:STANDARD
BEGIN:DAYLIGHT
TZOFFSETFROM:-0500
TZOFFSETTO:-0400
TZNAME:EDT
DTSTART:20240310T070000
END:DAYLIGHT
BEGIN:STANDARD
TZOFFSETFROM:-0400
TZOFFSETTO:-0500
TZNAME:EST
DTSTART:20241103T060000
END:STANDARD
BEGIN:DAYLIGHT
TZOFFSETFROM:-0500
TZOFFSETTO:-0400
TZNAME:EDT
DTSTART:20250309T070000
END:DAYLIGHT
BEGIN:STANDARD
TZOFFSETFROM:-0400
TZOFFSETTO:-0500
TZNAME:EST
DTSTART:20251102T060000
END:STANDARD
END:VTIMEZONE
BEGIN:VEVENT
DTSTART;TZID=America/Toronto:20240921T110000
DTEND;TZID=America/Toronto:20240921T110000
DTSTAMP:20260422T014947
CREATED:20240807T145421Z
LAST-MODIFIED:20240807T145800Z
UID:10000085-1726916400-1726916400@www.guelphwellingtonlip.ca
SUMMARY:Floral Folklore & Pressed Wildflower Art by Nimra Bandukwala
DESCRIPTION:Guelph Civic Museum warmly WELCOMES you to an inspiring exploration of local ecology\, folklore\, and creativity! Led by Nimra Bandukwala\, this free workshop offers a unique blend of learning\, storytelling\, and artistic expression. What to expect?  \n• Ecological Awareness: Discover the wonders of your local environment by working with invasive wildflowers. Learn about ethical foraging practices and their impact on the ecosystem.\n• Tales of Blooms: Share captivating stories and memories associated with flowers. From ancient myths to personal anecdotes\, let the petals unfold their secrets.\n• Pressed Flower Art: Immerse yourself in the therapeutic process of gathering\, pressing\, and creating art with wildflowers. Transform delicate blooms into timeless masterpieces.\n• Safe Space: This workshop provides a nurturing environment for reflection and sharing. Connect with fellow participants and explore the beauty of nature together.\n• The workshop is free to participate in and all material will be provided.
URL:https://www.guelphwellingtonlip.ca/event/floral-folklore-pressed-wildflower-art-by-nimra-bandukwala/
LOCATION:Guelph Civic Museum\, 52 Norfolk Street\, Guelph\, Ontario\, N1H 4H8
ORGANIZER;CN="Guelph Museums":MAILTO:jagroop.mehta@guelph.ca
END:VEVENT
END:VCALENDAR