BEGIN:VCALENDAR
VERSION:2.0
PRODID:-//Guelph-Wellington Local Immigration Partnership - ECPv6.15.20//NONSGML v1.0//EN
CALSCALE:GREGORIAN
METHOD:PUBLISH
X-ORIGINAL-URL:https://www.guelphwellingtonlip.ca
X-WR-CALDESC:Events for Guelph-Wellington Local Immigration Partnership
REFRESH-INTERVAL;VALUE=DURATION:PT1H
X-Robots-Tag:noindex
X-PUBLISHED-TTL:PT1H
BEGIN:VTIMEZONE
TZID:America/Toronto
BEGIN:DAYLIGHT
TZOFFSETFROM:-0500
TZOFFSETTO:-0400
TZNAME:EDT
DTSTART:20230312T070000
END:DAYLIGHT
BEGIN:STANDARD
TZOFFSETFROM:-0400
TZOFFSETTO:-0500
TZNAME:EST
DTSTART:20231105T060000
END:STANDARD
BEGIN:DAYLIGHT
TZOFFSETFROM:-0500
TZOFFSETTO:-0400
TZNAME:EDT
DTSTART:20240310T070000
END:DAYLIGHT
BEGIN:STANDARD
TZOFFSETFROM:-0400
TZOFFSETTO:-0500
TZNAME:EST
DTSTART:20241103T060000
END:STANDARD
BEGIN:DAYLIGHT
TZOFFSETFROM:-0500
TZOFFSETTO:-0400
TZNAME:EDT
DTSTART:20250309T070000
END:DAYLIGHT
BEGIN:STANDARD
TZOFFSETFROM:-0400
TZOFFSETTO:-0500
TZNAME:EST
DTSTART:20251102T060000
END:STANDARD
BEGIN:DAYLIGHT
TZOFFSETFROM:-0500
TZOFFSETTO:-0400
TZNAME:EDT
DTSTART:20260308T070000
END:DAYLIGHT
BEGIN:STANDARD
TZOFFSETFROM:-0400
TZOFFSETTO:-0500
TZNAME:EST
DTSTART:20261101T060000
END:STANDARD
END:VTIMEZONE
BEGIN:VEVENT
DTSTART;TZID=America/Toronto:20250916T110000
DTEND;TZID=America/Toronto:20250916T113000
DTSTAMP:20260421T234052
CREATED:20250808T180945Z
LAST-MODIFIED:20250818T171406Z
UID:10000179-1758020400-1758022200@www.guelphwellingtonlip.ca
SUMMARY:Bouncing Babies - Scottsdale Branch
DESCRIPTION:Learn a variety of songs\, rhymes and activities designed to foster early language development and a love of reading. For babies. No registration required. Although always welcome\, Newcomers are invited to come together with other parents and caregivers in the spirit of Welcoming Week! \nContact lcontini@guelphpl.ca for more details.
URL:https://www.guelphwellingtonlip.ca/event/bouncing-babies-scottsdale-branch/
LOCATION:Guelph Public Library – Scottsdale Branch\, 650 Scottsdale Drive\, Guelph\, Ontario\, N1G 4T7\, Canada
END:VEVENT
BEGIN:VEVENT
DTSTART;TZID=America/Toronto:20240917T110000
DTEND;TZID=America/Toronto:20240917T110000
DTSTAMP:20260421T234052
CREATED:20240807T165408Z
LAST-MODIFIED:20240807T170622Z
UID:10000137-1726570800-1726570800@www.guelphwellingtonlip.ca
SUMMARY:Bouncing Babies - Scottsdale Branch
DESCRIPTION:Have fun learning a variety of songs\, rhymes and activities designed to foster early language development and a love of reading. For babies. No registration required.
URL:https://www.guelphwellingtonlip.ca/event/bouncing-babies-bullfrog-mall-branch-380-eramosa-road/
LOCATION:Guelph Public Library – Scottsdale Branch\, 650 Scottsdale Drive\, Guelph\, Ontario\, N1G 4T7\, Canada
END:VEVENT
BEGIN:VEVENT
DTSTART;TZID=America/Toronto:20240917T100000
DTEND;TZID=America/Toronto:20240917T110000
DTSTAMP:20260421T234052
CREATED:20240807T170240Z
LAST-MODIFIED:20240807T170846Z
UID:10000138-1726567200-1726570800@www.guelphwellingtonlip.ca
SUMMARY:Move and Groove - Scottsdale Branch
DESCRIPTION:Get your groove on with 20 minutes of songs\, movement and storytelling activities. For toddlers and preschoolers. No registration required.
URL:https://www.guelphwellingtonlip.ca/event/bouncing-babies-bullfrog-mall-branch-380-eramosa-road-2/
LOCATION:Guelph Public Library – Scottsdale Branch\, 650 Scottsdale Drive\, Guelph\, Ontario\, N1G 4T7\, Canada
END:VEVENT
END:VCALENDAR