BEGIN:VCALENDAR
VERSION:2.0
PRODID:-//Guelph-Wellington Local Immigration Partnership - ECPv6.15.20//NONSGML v1.0//EN
CALSCALE:GREGORIAN
METHOD:PUBLISH
X-ORIGINAL-URL:https://www.guelphwellingtonlip.ca
X-WR-CALDESC:Events for Guelph-Wellington Local Immigration Partnership
REFRESH-INTERVAL;VALUE=DURATION:PT1H
X-Robots-Tag:noindex
X-PUBLISHED-TTL:PT1H
BEGIN:VTIMEZONE
TZID:America/Toronto
BEGIN:DAYLIGHT
TZOFFSETFROM:-0500
TZOFFSETTO:-0400
TZNAME:EDT
DTSTART:20230312T070000
END:DAYLIGHT
BEGIN:STANDARD
TZOFFSETFROM:-0400
TZOFFSETTO:-0500
TZNAME:EST
DTSTART:20231105T060000
END:STANDARD
BEGIN:DAYLIGHT
TZOFFSETFROM:-0500
TZOFFSETTO:-0400
TZNAME:EDT
DTSTART:20240310T070000
END:DAYLIGHT
BEGIN:STANDARD
TZOFFSETFROM:-0400
TZOFFSETTO:-0500
TZNAME:EST
DTSTART:20241103T060000
END:STANDARD
BEGIN:DAYLIGHT
TZOFFSETFROM:-0500
TZOFFSETTO:-0400
TZNAME:EDT
DTSTART:20250309T070000
END:DAYLIGHT
BEGIN:STANDARD
TZOFFSETFROM:-0400
TZOFFSETTO:-0500
TZNAME:EST
DTSTART:20251102T060000
END:STANDARD
BEGIN:DAYLIGHT
TZOFFSETFROM:-0500
TZOFFSETTO:-0400
TZNAME:EDT
DTSTART:20260308T070000
END:DAYLIGHT
BEGIN:STANDARD
TZOFFSETFROM:-0400
TZOFFSETTO:-0500
TZNAME:EST
DTSTART:20261101T060000
END:STANDARD
END:VTIMEZONE
BEGIN:VEVENT
DTSTART;TZID=America/Toronto:20250915T110000
DTEND;TZID=America/Toronto:20250915T113000
DTSTAMP:20260421T234109
CREATED:20250808T175758Z
LAST-MODIFIED:20250818T171344Z
UID:10000177-1757934000-1757935800@www.guelphwellingtonlip.ca
SUMMARY:Shake\, Rattle and Read - West End Branch
DESCRIPTION:Join us for 20 minutes of songs\, stories and fingerplays. A simple craft will follow this storytime. Suitable for toddlers and preschoolers. No registration required. Although always welcome\, Newcomers are invited to come together with other parents and caregivers in the spirit of Welcoming Week! \nContact lcontini@guelphpl.ca for more details.
URL:https://www.guelphwellingtonlip.ca/event/shake-rattle-and-read-west-end-branch/
LOCATION:Guelph Public Library – West End Branch\, 21 Imperial Road South\, Guelph\, Ontario\, N1K 1X6\, Canada
END:VEVENT
BEGIN:VEVENT
DTSTART;TZID=America/Toronto:20250915T100000
DTEND;TZID=America/Toronto:20250915T103000
DTSTAMP:20260421T234109
CREATED:20250808T175627Z
LAST-MODIFIED:20250818T171256Z
UID:10000176-1757930400-1757932200@www.guelphwellingtonlip.ca
SUMMARY:Bouncing Babies - West End Branch
DESCRIPTION:Have fun learning a variety of songs\, rhymes and activities designed to foster early language development and a love of reading. For babies. No registration required. Although always welcome\, Newcomers are invited to come together with other parents and caregivers in the spirit of Welcoming Week! \nContact lcontini@guelphpl.ca for more details.
URL:https://www.guelphwellingtonlip.ca/event/bouncing-babies-west-end-branch/
LOCATION:Guelph Public Library – West End Branch\, 21 Imperial Road South\, Guelph\, Ontario\, N1K 1X6\, Canada
END:VEVENT
BEGIN:VEVENT
DTSTART;TZID=America/Toronto:20240916T110000
DTEND;TZID=America/Toronto:20240916T110000
DTSTAMP:20260421T234109
CREATED:20240807T155208Z
LAST-MODIFIED:20240807T155208Z
UID:10000136-1726484400-1726484400@www.guelphwellingtonlip.ca
SUMMARY:Shake\, Rattle and Read - West End Branch (21 Imperial Road South)
DESCRIPTION:Join us for 20 minutes of songs\, stories and fingerplays. A simple craft will follow this storytime. For toddlers and preschoolers. No registration required.
URL:https://www.guelphwellingtonlip.ca/event/shake-rattle-and-read-west-end-branch-21-imperial-road-south/
LOCATION:Guelph Public Library – West End Branch\, 21 Imperial Road South\, Guelph\, Ontario\, N1K 1X6\, Canada
END:VEVENT
BEGIN:VEVENT
DTSTART;TZID=America/Toronto:20240916T100000
DTEND;TZID=America/Toronto:20240916T100000
DTSTAMP:20260421T234109
CREATED:20240807T154925Z
LAST-MODIFIED:20240807T155016Z
UID:10000135-1726480800-1726480800@www.guelphwellingtonlip.ca
SUMMARY:Bouncing Babies - West End Branch (21 Imperial Road South)
DESCRIPTION:Have fun learning a variety of songs\, rhymes and activities designed to foster early language development and a love of reading. For babies. No registration required.
URL:https://www.guelphwellingtonlip.ca/event/bouncing-babies-west-end-branch-21-imperial-road-south/
LOCATION:Guelph Public Library – West End Branch\, 21 Imperial Road South\, Guelph\, Ontario\, N1K 1X6\, Canada
END:VEVENT
END:VCALENDAR