BEGIN:VCALENDAR
VERSION:2.0
PRODID:-//Guelph-Wellington Local Immigration Partnership - ECPv6.15.20//NONSGML v1.0//EN
CALSCALE:GREGORIAN
METHOD:PUBLISH
X-ORIGINAL-URL:https://www.guelphwellingtonlip.ca
X-WR-CALDESC:Events for Guelph-Wellington Local Immigration Partnership
REFRESH-INTERVAL;VALUE=DURATION:PT1H
X-Robots-Tag:noindex
X-PUBLISHED-TTL:PT1H
BEGIN:VTIMEZONE
TZID:UTC
BEGIN:STANDARD
TZOFFSETFROM:+0000
TZOFFSETTO:+0000
TZNAME:UTC
DTSTART:20170101T000000
END:STANDARD
END:VTIMEZONE
BEGIN:VEVENT
DTSTART;TZID=UTC:20181115T130000
DTEND;TZID=UTC:20181115T160000
DTSTAMP:20260422T210554
CREATED:20181030T134049Z
LAST-MODIFIED:20190315T152336Z
UID:10000091-1542286800-1542297600@www.guelphwellingtonlip.ca
SUMMARY:Leadership Council Meeting – November 15\, 2018
DESCRIPTION:LC Meeting Agenda - November 15\, 2018\n                 1 file(s)  33.95 KB\n            \n            \n                Please login to download\n            \n        \n    \n\n\n\n\n\n\n    \n        \n            \n            \n                LC Meeting Minutes - November 15\, 2018\n                 1 file(s)  44.05 KB\n            \n            \n                Please login to download
URL:https://www.guelphwellingtonlip.ca/event/leadership-council-meeting-november-15-2018/
LOCATION:Immigrant Services – 104 Dawson Road
END:VEVENT
BEGIN:VEVENT
DTSTART;TZID=UTC:20180307T133000
DTEND;TZID=UTC:20180307T150000
DTSTAMP:20260422T210554
CREATED:20180228T143736Z
LAST-MODIFIED:20180404T164711Z
UID:10000076-1520429400-1520434800@www.guelphwellingtonlip.ca
SUMMARY:Leadership Council Meeting - March 7
DESCRIPTION:LC Meeting Agenda – Mar. 7\, 2018 \nLC Meeting Minutes – Mar. 7\, 2018
URL:https://www.guelphwellingtonlip.ca/event/leadership-council-meeting-march-7/
LOCATION:Immigrant Services – 104 Dawson Road
END:VEVENT
END:VCALENDAR