BEGIN:VCALENDAR
VERSION:2.0
PRODID:-//Guelph-Wellington Local Immigration Partnership - ECPv6.15.20//NONSGML v1.0//EN
CALSCALE:GREGORIAN
METHOD:PUBLISH
X-WR-CALNAME:Guelph-Wellington Local Immigration Partnership
X-ORIGINAL-URL:https://www.guelphwellingtonlip.ca
X-WR-CALDESC:Events for Guelph-Wellington Local Immigration Partnership
REFRESH-INTERVAL;VALUE=DURATION:PT1H
X-Robots-Tag:noindex
X-PUBLISHED-TTL:PT1H
BEGIN:VTIMEZONE
TZID:UTC
BEGIN:STANDARD
TZOFFSETFROM:+0000
TZOFFSETTO:+0000
TZNAME:UTC
DTSTART:20220101T000000
END:STANDARD
END:VTIMEZONE
BEGIN:VEVENT
DTSTART;TZID=UTC:20230910T140000
DTEND;TZID=UTC:20230910T150000
DTSTAMP:20260422T015726
CREATED:20230808T143315Z
LAST-MODIFIED:20230808T154821Z
UID:10000110-1694354400-1694358000@www.guelphwellingtonlip.ca
SUMMARY:Public Art Walking Tour
DESCRIPTION:Explore public artworks\, local murals and graffiti walls downtown Guelph on a guided tour. [Register here].
URL:https://www.guelphwellingtonlip.ca/event/public-art-walking-tour/
LOCATION:In-person\, in front of City Hall (1 Carden Street)\, 1 Carden Street\, Guelph\, Ontario\, N1H 3A1\, Canada
END:VEVENT
END:VCALENDAR