BEGIN:VCALENDAR
VERSION:2.0
PRODID:-//Guelph-Wellington Local Immigration Partnership - ECPv6.15.20//NONSGML v1.0//EN
CALSCALE:GREGORIAN
METHOD:PUBLISH
X-WR-CALNAME:Guelph-Wellington Local Immigration Partnership
X-ORIGINAL-URL:https://www.guelphwellingtonlip.ca
X-WR-CALDESC:Events for Guelph-Wellington Local Immigration Partnership
REFRESH-INTERVAL;VALUE=DURATION:PT1H
X-Robots-Tag:noindex
X-PUBLISHED-TTL:PT1H
BEGIN:VTIMEZONE
TZID:UTC
BEGIN:STANDARD
TZOFFSETFROM:+0000
TZOFFSETTO:+0000
TZNAME:UTC
DTSTART:20160101T000000
END:STANDARD
END:VTIMEZONE
BEGIN:VEVENT
DTSTART;TZID=UTC:20170525T153000
DTEND;TZID=UTC:20170525T163000
DTSTAMP:20260422T201212
CREATED:20170523T140211Z
LAST-MODIFIED:20170523T161920Z
UID:10000062-1495726200-1495729800@www.guelphwellingtonlip.ca
SUMMARY:Straight Talk - "How I Built My Career as a Newcomer to Canada"
DESCRIPTION:Dina Zaki came to Canada in 2014 with 10+ years of experience in HR focusing on Talent acquisition and Recruitment acquired mostly in the Oil field and petroleum services sector. Canada was a big move to her and her family with a lot of new things to know and absorb. She decided to go to Conestoga College for HR certificate right after settling \, then\, after finishing school\, she got a temporary placement at Cargill as a Recruiter that to a full time permanent job and now she is the Talent Acquisition and Foreign Workers Specialist at Cargill-Dunlop Facility. \nStraight Talk is a series of events promoted by the Lutherwood Mentorship Program for Internationally Trained Professionals. This series provides information about the Canadian work culture\, networking techniques and personal branding skills for experienced immigrants that are building their career paths in Canada” \nPlease RSVP at this link if you would like to attend.
URL:https://www.guelphwellingtonlip.ca/event/straight-talk-how-i-built-my-career-as-a-newcomer-to-canada/
LOCATION:Lutherwood\, 30 Wyndham Street North\, Guelph\, Ontario\, N1H3A1\, Canada
GEO:43.5450852;-80.2486512
X-APPLE-STRUCTURED-LOCATION;VALUE=URI;X-ADDRESS=Lutherwood 30 Wyndham Street North Guelph Ontario N1H3A1 Canada;X-APPLE-RADIUS=500;X-TITLE=30 Wyndham Street North:geo:-80.2486512,43.5450852
END:VEVENT
END:VCALENDAR