BEGIN:VCALENDAR
VERSION:2.0
PRODID:-//Guelph-Wellington Local Immigration Partnership - ECPv6.15.20//NONSGML v1.0//EN
CALSCALE:GREGORIAN
METHOD:PUBLISH
X-ORIGINAL-URL:https://www.guelphwellingtonlip.ca
X-WR-CALDESC:Events for Guelph-Wellington Local Immigration Partnership
REFRESH-INTERVAL;VALUE=DURATION:PT1H
X-Robots-Tag:noindex
X-PUBLISHED-TTL:PT1H
BEGIN:VTIMEZONE
TZID:America/Toronto
BEGIN:DAYLIGHT
TZOFFSETFROM:-0500
TZOFFSETTO:-0400
TZNAME:EDT
DTSTART:20240310T070000
END:DAYLIGHT
BEGIN:STANDARD
TZOFFSETFROM:-0400
TZOFFSETTO:-0500
TZNAME:EST
DTSTART:20241103T060000
END:STANDARD
BEGIN:DAYLIGHT
TZOFFSETFROM:-0500
TZOFFSETTO:-0400
TZNAME:EDT
DTSTART:20250309T070000
END:DAYLIGHT
BEGIN:STANDARD
TZOFFSETFROM:-0400
TZOFFSETTO:-0500
TZNAME:EST
DTSTART:20251102T060000
END:STANDARD
BEGIN:DAYLIGHT
TZOFFSETFROM:-0500
TZOFFSETTO:-0400
TZNAME:EDT
DTSTART:20260308T070000
END:DAYLIGHT
BEGIN:STANDARD
TZOFFSETFROM:-0400
TZOFFSETTO:-0500
TZNAME:EST
DTSTART:20261101T060000
END:STANDARD
END:VTIMEZONE
BEGIN:VTIMEZONE
TZID:UTC
BEGIN:STANDARD
TZOFFSETFROM:+0000
TZOFFSETTO:+0000
TZNAME:UTC
DTSTART:20230101T000000
END:STANDARD
END:VTIMEZONE
BEGIN:VEVENT
DTSTART;TZID=America/Toronto:20250918T130000
DTEND;TZID=America/Toronto:20250918T160000
DTSTAMP:20260421T152751
CREATED:20250808T171612Z
LAST-MODIFIED:20250902T172212Z
UID:10000172-1758200400-1758211200@www.guelphwellingtonlip.ca
SUMMARY:Community Services and Volunteer Fair
DESCRIPTION:Join us on September 18 from 1pm-4pm to learn more about local community services and volunteer opportunities at this special event hosted by Starling Community Services\, in collaboration with Immigrant Services Guelph-Wellington and the Guelph Public Library. Whether you’re looking for ways to connect\, volunteer\, or explore local programs\, this is a great opportunity to meet others\, learn how you can get involved\, give back and access supports. Everyone is welcome! \nContact yproenza@starlingcs.ca for more details.
URL:https://www.guelphwellingtonlip.ca/event/community-services-and-volunteer-fair/
LOCATION:Starling Community Services\, 89 Wyndham Street North\, Guelph\, Ontario\, N1H 4E9\, Canada
ORGANIZER;CN="Starling Community Services":MAILTO:yproenza@lutherwood.ca
GEO:43.5450852;-80.2486512
X-APPLE-STRUCTURED-LOCATION;VALUE=URI;X-ADDRESS=Starling Community Services 89 Wyndham Street North Guelph Ontario N1H 4E9 Canada;X-APPLE-RADIUS=500;X-TITLE=89 Wyndham Street North:geo:-80.2486512,43.5450852
END:VEVENT
BEGIN:VEVENT
DTSTART;TZID=UTC:20240918T130000
DTEND;TZID=UTC:20240918T130000
DTSTAMP:20260421T152751
CREATED:20240807T150853Z
LAST-MODIFIED:20240807T150853Z
UID:10000087-1726664400-1726664400@www.guelphwellingtonlip.ca
SUMMARY:Starling Community Services Open House
DESCRIPTION:Open House showcasing employment services and programs available for jobseekers and employers. Our free services help individuals find and maintain their jobs\, and employers recruit and train employees. Come learn about our different programs\, including those specialized for newcomers to Canada\, and how we can help you connect with employers\, resources\, funding and jobs. Everyone is welcome!
URL:https://www.guelphwellingtonlip.ca/event/starling-community-services-open-house/
LOCATION:Starling Community Services\, 89 Wyndham Street North\, Guelph\, Ontario\, N1H 4E9\, Canada
ORGANIZER;CN="Starling Community Services":MAILTO:yproenza@lutherwood.ca
GEO:43.5450852;-80.2486512
X-APPLE-STRUCTURED-LOCATION;VALUE=URI;X-ADDRESS=Starling Community Services 89 Wyndham Street North Guelph Ontario N1H 4E9 Canada;X-APPLE-RADIUS=500;X-TITLE=89 Wyndham Street North:geo:-80.2486512,43.5450852
END:VEVENT
END:VCALENDAR