BEGIN:VCALENDAR
VERSION:2.0
PRODID:-//Guelph-Wellington Local Immigration Partnership - ECPv6.15.20//NONSGML v1.0//EN
CALSCALE:GREGORIAN
METHOD:PUBLISH
X-WR-CALNAME:Guelph-Wellington Local Immigration Partnership
X-ORIGINAL-URL:https://www.guelphwellingtonlip.ca
X-WR-CALDESC:Events for Guelph-Wellington Local Immigration Partnership
REFRESH-INTERVAL;VALUE=DURATION:PT1H
X-Robots-Tag:noindex
X-PUBLISHED-TTL:PT1H
BEGIN:VTIMEZONE
TZID:America/Toronto
BEGIN:DAYLIGHT
TZOFFSETFROM:-0500
TZOFFSETTO:-0400
TZNAME:EDT
DTSTART:20230312T070000
END:DAYLIGHT
BEGIN:STANDARD
TZOFFSETFROM:-0400
TZOFFSETTO:-0500
TZNAME:EST
DTSTART:20231105T060000
END:STANDARD
BEGIN:DAYLIGHT
TZOFFSETFROM:-0500
TZOFFSETTO:-0400
TZNAME:EDT
DTSTART:20240310T070000
END:DAYLIGHT
BEGIN:STANDARD
TZOFFSETFROM:-0400
TZOFFSETTO:-0500
TZNAME:EST
DTSTART:20241103T060000
END:STANDARD
BEGIN:DAYLIGHT
TZOFFSETFROM:-0500
TZOFFSETTO:-0400
TZNAME:EDT
DTSTART:20250309T070000
END:DAYLIGHT
BEGIN:STANDARD
TZOFFSETFROM:-0400
TZOFFSETTO:-0500
TZNAME:EST
DTSTART:20251102T060000
END:STANDARD
BEGIN:DAYLIGHT
TZOFFSETFROM:-0500
TZOFFSETTO:-0400
TZNAME:EDT
DTSTART:20260308T070000
END:DAYLIGHT
BEGIN:STANDARD
TZOFFSETFROM:-0400
TZOFFSETTO:-0500
TZNAME:EST
DTSTART:20261101T060000
END:STANDARD
END:VTIMEZONE
BEGIN:VTIMEZONE
TZID:UTC
BEGIN:STANDARD
TZOFFSETFROM:+0000
TZOFFSETTO:+0000
TZNAME:UTC
DTSTART:20220101T000000
END:STANDARD
END:VTIMEZONE
BEGIN:VEVENT
DTSTART;TZID=America/Toronto:20250918T100000
DTEND;TZID=America/Toronto:20250918T120000
DTSTAMP:20260421T185445
CREATED:20250808T175339Z
LAST-MODIFIED:20250808T175339Z
UID:10000174-1758189600-1758196800@www.guelphwellingtonlip.ca
SUMMARY:Coffee Time Chat: Share Your Stories During Welcoming Week
DESCRIPTION:We invite newcomers and community members alike to enjoy coffee and share their stories with Community Living Guelph Wellington’s P4P Advocacy Members. No registration required. All ages. \nContact etyschenko@guelphpl.ca for more details.
URL:https://www.guelphwellingtonlip.ca/event/coffee-time-chat-share-your-stories-during-welcoming-week/
LOCATION:Main Branch – Program Room\, 100 Norfolk Street\, Guelph\, Ontario\, N1H 4J6\, Canada
END:VEVENT
BEGIN:VEVENT
DTSTART;TZID=America/Toronto:20250918T100000
DTEND;TZID=America/Toronto:20250918T113000
DTSTAMP:20260421T185445
CREATED:20250808T181536Z
LAST-MODIFIED:20250818T171445Z
UID:10000183-1758189600-1758195000@www.guelphwellingtonlip.ca
SUMMARY:Super Sensory Baby - Main Library Program Room
DESCRIPTION:Join us for sensory play at the Main Library. For babies. No registration is required. Although always welcome\, Newcomers are invited to come together with other parents and caregivers in the spirit of Welcoming Week! \nContact lcontini@guelphpl.ca for more details.
URL:https://www.guelphwellingtonlip.ca/event/super-sensory-baby-main-library-program-room/
LOCATION:Main Branch – Program Room\, 100 Norfolk Street\, Guelph\, Ontario\, N1H 4J6\, Canada
END:VEVENT
BEGIN:VEVENT
DTSTART;TZID=UTC:20250916T103000
DTEND;TZID=UTC:20250916T110000
DTSTAMP:20260421T185445
CREATED:20250808T183555Z
LAST-MODIFIED:20250822T133401Z
UID:10000185-1758018600-1758020400@www.guelphwellingtonlip.ca
SUMMARY:Reducing Digital Inequity in Guelph
DESCRIPTION:Join us virtually or in-person\, while we will explore ways to make internet access\, digital devices\, and digital skill-building opportunities accessible in Guelph. For adults. Please register at the link below. \nContact jlisso@guelphpl.ca for more details.
URL:https://www.guelphwellingtonlip.ca/event/reducing-digital-inequity-in-guelph/
LOCATION:Main Branch – Program Room\, 100 Norfolk Street\, Guelph\, Ontario\, N1H 4J6\, Canada
END:VEVENT
BEGIN:VEVENT
DTSTART;TZID=America/Toronto:20250916T100000
DTEND;TZID=America/Toronto:20250916T110000
DTSTAMP:20260421T185445
CREATED:20250808T175923Z
LAST-MODIFIED:20250818T171354Z
UID:10000178-1758016800-1758020400@www.guelphwellingtonlip.ca
SUMMARY:Bouncing Babies - Main Library Program Room
DESCRIPTION:Have fun learning a variety of songs\, rhymes and activities designed to foster early language development and a love of reading. For babies. No registration required. Although always welcome\, Newcomers are invited to come together with other parents and caregivers in the spirit of Welcoming Week! \nContact lcontini@guelphpl.ca for more details.
URL:https://www.guelphwellingtonlip.ca/event/bouncing-babies-main-library-program-room-2/
LOCATION:Main Branch – Program Room\, 100 Norfolk Street\, Guelph\, Ontario\, N1H 4J6\, Canada
END:VEVENT
BEGIN:VEVENT
DTSTART;TZID=America/Toronto:20240917T100000
DTEND;TZID=America/Toronto:20240917T100000
DTSTAMP:20260421T185445
CREATED:20240807T171139Z
LAST-MODIFIED:20240807T171139Z
UID:10000139-1726567200-1726567200@www.guelphwellingtonlip.ca
SUMMARY:Bouncing Babies - Main Library Program Room
DESCRIPTION:Have fun learning a variety of songs\, rhymes and activities designed to foster early language development and a love of reading. For babies. No registration required.
URL:https://www.guelphwellingtonlip.ca/event/bouncing-babies-main-library-program-room/
LOCATION:Main Branch – Program Room\, 100 Norfolk Street\, Guelph\, Ontario\, N1H 4J6\, Canada
END:VEVENT
BEGIN:VEVENT
DTSTART;TZID=UTC:20230915T100000
DTEND;TZID=UTC:20230915T110000
DTSTAMP:20260421T185445
CREATED:20230808T152521Z
LAST-MODIFIED:20230808T154508Z
UID:10000121-1694772000-1694775600@www.guelphwellingtonlip.ca
SUMMARY:Library Tour for Newcomers
DESCRIPTION:Are you new to Canada or Guelph? Join us for this one hour tour of the main library. The tour is open to all\, but is aimed at newcomers. Learn about everything you can do at the library. Bring ID and proof of address in order to get your free library card! [Register here].
URL:https://www.guelphwellingtonlip.ca/event/library-tour-for-newcomers-3/
LOCATION:Main Branch – Program Room\, 100 Norfolk Street\, Guelph\, Ontario\, N1H 4J6\, Canada
END:VEVENT
BEGIN:VEVENT
DTSTART;TZID=UTC:20230908T103000
DTEND;TZID=UTC:20230908T110000
DTSTAMP:20260421T185445
CREATED:20230908T132424Z
LAST-MODIFIED:20230908T132424Z
UID:10000129-1694169000-1694170800@www.guelphwellingtonlip.ca
SUMMARY:Celebrate International Literacy Day: Family Storytime
DESCRIPTION:Join us at the Main Library for stories\, songs and a craft in celebration of International Literacy Day. For families. Register once to reserve a spot for your family. [Register here]. \n\n\n\n\n\n\nIn celebration of International Literacy Day\, bring your family to the Main Library to enjoy storytime\, songs and a craft. We will discuss early literacy and provide you with some helpful resources from the library.
URL:https://www.guelphwellingtonlip.ca/event/celebrate-international-literacy-day-family-storytime/
LOCATION:Main Branch – Program Room\, 100 Norfolk Street\, Guelph\, Ontario\, N1H 4J6\, Canada
END:VEVENT
END:VCALENDAR