BEGIN:VCALENDAR
VERSION:2.0
PRODID:-//Guelph-Wellington Local Immigration Partnership - ECPv6.15.20//NONSGML v1.0//EN
CALSCALE:GREGORIAN
METHOD:PUBLISH
X-WR-CALNAME:Guelph-Wellington Local Immigration Partnership
X-ORIGINAL-URL:https://www.guelphwellingtonlip.ca
X-WR-CALDESC:Events for Guelph-Wellington Local Immigration Partnership
REFRESH-INTERVAL;VALUE=DURATION:PT1H
X-Robots-Tag:noindex
X-PUBLISHED-TTL:PT1H
BEGIN:VTIMEZONE
TZID:America/Toronto
BEGIN:DAYLIGHT
TZOFFSETFROM:-0500
TZOFFSETTO:-0400
TZNAME:EDT
DTSTART:20230312T070000
END:DAYLIGHT
BEGIN:STANDARD
TZOFFSETFROM:-0400
TZOFFSETTO:-0500
TZNAME:EST
DTSTART:20231105T060000
END:STANDARD
BEGIN:DAYLIGHT
TZOFFSETFROM:-0500
TZOFFSETTO:-0400
TZNAME:EDT
DTSTART:20240310T070000
END:DAYLIGHT
BEGIN:STANDARD
TZOFFSETFROM:-0400
TZOFFSETTO:-0500
TZNAME:EST
DTSTART:20241103T060000
END:STANDARD
BEGIN:DAYLIGHT
TZOFFSETFROM:-0500
TZOFFSETTO:-0400
TZNAME:EDT
DTSTART:20250309T070000
END:DAYLIGHT
BEGIN:STANDARD
TZOFFSETFROM:-0400
TZOFFSETTO:-0500
TZNAME:EST
DTSTART:20251102T060000
END:STANDARD
BEGIN:DAYLIGHT
TZOFFSETFROM:-0500
TZOFFSETTO:-0400
TZNAME:EDT
DTSTART:20260308T070000
END:DAYLIGHT
BEGIN:STANDARD
TZOFFSETFROM:-0400
TZOFFSETTO:-0500
TZNAME:EST
DTSTART:20261101T060000
END:STANDARD
END:VTIMEZONE
BEGIN:VTIMEZONE
TZID:UTC
BEGIN:STANDARD
TZOFFSETFROM:+0000
TZOFFSETTO:+0000
TZNAME:UTC
DTSTART:20220101T000000
END:STANDARD
END:VTIMEZONE
BEGIN:VEVENT
DTSTART;TZID=America/Toronto:20250916T180000
DTEND;TZID=America/Toronto:20250916T180000
DTSTAMP:20260421T220627
CREATED:20250808T164953Z
LAST-MODIFIED:20250808T165110Z
UID:10000167-1758045600-1758045600@www.guelphwellingtonlip.ca
SUMMARY:Welcome to Mapleton Barbeque
DESCRIPTION:New to Mapleton Township? Join us for a free Welcome BBQ on Sept 16\, 6–8 PM at PMD Arena! \nPlease register at the provided link below. \nContact agrose@mapleton.ca for more details.
URL:https://www.guelphwellingtonlip.ca/event/welcome-to-mapleton-barbeque/
LOCATION:PMD Community Hall\, 68 Main Street West\, Drayton\, Ontario\, N0G 1P0\, Canada
END:VEVENT
BEGIN:VEVENT
DTSTART;TZID=America/Toronto:20240918T180000
DTEND;TZID=America/Toronto:20240918T180000
DTSTAMP:20260421T220627
CREATED:20240916T134108Z
LAST-MODIFIED:20240916T134108Z
UID:10000161-1726682400-1726682400@www.guelphwellingtonlip.ca
SUMMARY:Mapleton Newcomers Reception
DESCRIPTION:The Township of Mapleton is hosting a Newcomers Reception Week welcoming new residents in Mapleton. There will be three events in the communities of Moorefield\, Alma\, and Drayton. \nIf you have recently moved here this is your chance to learn more about your community\, meet our service groups\, community groups\, organizations and other neighbors. There will be free snacks and drinks\, and every newcomer will receive their very own Mapleton Swag Bag! You can also pick up a recycling and organic bins if you haven’t got the chance yet.
URL:https://www.guelphwellingtonlip.ca/event/mapleton-newcomers-reception/
LOCATION:PMD Community Hall\, 68 Main Street West\, Drayton\, Ontario\, N0G 1P0\, Canada
END:VEVENT
BEGIN:VEVENT
DTSTART;TZID=UTC:20230914T180000
DTEND;TZID=UTC:20230914T200000
DTSTAMP:20260421T220627
CREATED:20230808T151830Z
LAST-MODIFIED:20230808T154531Z
UID:10000120-1694714400-1694721600@www.guelphwellingtonlip.ca
SUMMARY:Mapleton 2023 Newcomers Reception
DESCRIPTION:If you have recently moved to Mapleton this is your chance to learn more about your community\, meet our service groups\, community groups\, organizations and other neighbors. There will be free snacks and drinks\, and every newcomer will receive their very own Mapleton Swag Bag! [Register here].
URL:https://www.guelphwellingtonlip.ca/event/mapleton-2023-newcomers-reception/
LOCATION:PMD Community Hall\, 68 Main Street West\, Drayton\, Ontario\, N0G 1P0\, Canada
END:VEVENT
END:VCALENDAR