BEGIN:VCALENDAR
VERSION:2.0
PRODID:-//Guelph-Wellington Local Immigration Partnership - ECPv6.15.20//NONSGML v1.0//EN
CALSCALE:GREGORIAN
METHOD:PUBLISH
X-ORIGINAL-URL:https://www.guelphwellingtonlip.ca
X-WR-CALDESC:Events for Guelph-Wellington Local Immigration Partnership
REFRESH-INTERVAL;VALUE=DURATION:PT1H
X-Robots-Tag:noindex
X-PUBLISHED-TTL:PT1H
BEGIN:VTIMEZONE
TZID:America/Toronto
BEGIN:DAYLIGHT
TZOFFSETFROM:-0500
TZOFFSETTO:-0400
TZNAME:EDT
DTSTART:20230312T070000
END:DAYLIGHT
BEGIN:STANDARD
TZOFFSETFROM:-0400
TZOFFSETTO:-0500
TZNAME:EST
DTSTART:20231105T060000
END:STANDARD
BEGIN:DAYLIGHT
TZOFFSETFROM:-0500
TZOFFSETTO:-0400
TZNAME:EDT
DTSTART:20240310T070000
END:DAYLIGHT
BEGIN:STANDARD
TZOFFSETFROM:-0400
TZOFFSETTO:-0500
TZNAME:EST
DTSTART:20241103T060000
END:STANDARD
BEGIN:DAYLIGHT
TZOFFSETFROM:-0500
TZOFFSETTO:-0400
TZNAME:EDT
DTSTART:20250309T070000
END:DAYLIGHT
BEGIN:STANDARD
TZOFFSETFROM:-0400
TZOFFSETTO:-0500
TZNAME:EST
DTSTART:20251102T060000
END:STANDARD
BEGIN:DAYLIGHT
TZOFFSETFROM:-0500
TZOFFSETTO:-0400
TZNAME:EDT
DTSTART:20260308T070000
END:DAYLIGHT
BEGIN:STANDARD
TZOFFSETFROM:-0400
TZOFFSETTO:-0500
TZNAME:EST
DTSTART:20261101T060000
END:STANDARD
END:VTIMEZONE
BEGIN:VTIMEZONE
TZID:UTC
BEGIN:STANDARD
TZOFFSETFROM:+0000
TZOFFSETTO:+0000
TZNAME:UTC
DTSTART:20220101T000000
END:STANDARD
END:VTIMEZONE
BEGIN:VEVENT
DTSTART;TZID=America/Toronto:20250911T153000
DTEND;TZID=America/Toronto:20250911T173000
DTSTAMP:20260422T012235
CREATED:20250813T191546Z
LAST-MODIFIED:20250820T143846Z
UID:10000191-1757604600-1757611800@www.guelphwellingtonlip.ca
SUMMARY:Shelldale Block Party (For people who live\, work\, or participate in programs at Shelldale)
DESCRIPTION:For people who live\, work\, or participate in programs at Shelldale. \nLive entertainment\, outdoor activities\, and delicious food! \nContact volunteer@guelphchc.ca for more details.
URL:https://www.guelphwellingtonlip.ca/event/shelldale-block-party-2/
LOCATION:Shelldale Community Centre\, 20 Shelldale Crescent\, Guelph\, Ontario\, N1H 1C8\, Canada
END:VEVENT
BEGIN:VEVENT
DTSTART;TZID=America/Toronto:20240928T140000
DTEND;TZID=America/Toronto:20240928T140000
DTSTAMP:20260422T012235
CREATED:20240829T154956Z
LAST-MODIFIED:20240829T160226Z
UID:10000159-1727532000-1727532000@www.guelphwellingtonlip.ca
SUMMARY:Rotary's Family Fun Day
DESCRIPTION:New to Canada? Join us for a free\, family event. Meet other families and learn more\nabout resources to help you. Including Fun-Filled Activities and Refreshments!
URL:https://www.guelphwellingtonlip.ca/event/rotarys-family-fun-day/
LOCATION:Shelldale Community Centre\, 20 Shelldale Crescent\, Guelph\, Ontario\, N1H 1C8\, Canada
ORGANIZER;CN="Rotary Guelph Trillium":MAILTO:cwomen.admin@gmail.com
END:VEVENT
BEGIN:VEVENT
DTSTART;TZID=America/Toronto:20240922T130000
DTEND;TZID=America/Toronto:20240922T130000
DTSTAMP:20260422T012235
CREATED:20240920T124847Z
LAST-MODIFIED:20240920T124847Z
UID:10000162-1727010000-1727010000@www.guelphwellingtonlip.ca
SUMMARY:#HopeAndHealingCanada with Tracey-Mae Chambers: Artist talk
DESCRIPTION:City of Guelph’s 2024 Artist-in-Residence\, Tracey-Mae Chambers\, will present an artist talk and single-day exhibition of the community weavings created throughout the residency\, during Culture Days on Sunday\, September 22. Join Tracey-Mae between 1 p.m. – 4 p.m.\, with an artist talk at 2 p.m. to learn about her #HopeAndHealingCanada project that has been installed across the country and brought back to Guelph this year. \nThroughout the 15-week residency\, Tracey-Mae Chambers engaged the Guelph community at over ten locations\, in conversations centered in truth and reconciliation through community weaving workshops and pop-up textile installations both indoor and outdoor. Creating public activations and interventions using yarn and community dialogue\, Tracey-Mae approaches her work through the lens of collectively decolonizing place. \nFor more information and to register for free\, click here.
URL:https://www.guelphwellingtonlip.ca/event/hopeandhealingcanada-with-tracey-mae-chambers-artist-talk/
LOCATION:Shelldale Community Centre\, 20 Shelldale Crescent\, Guelph\, Ontario\, N1H 1C8\, Canada
ORGANIZER;CN="City of Guelph - Culture and Recreation":MAILTO:Adam.Rutherford@guelph.ca
END:VEVENT
BEGIN:VEVENT
DTSTART;TZID=America/Toronto:20240916T100000
DTEND;TZID=America/Toronto:20240916T100000
DTSTAMP:20260422T012235
CREATED:20240808T141723Z
LAST-MODIFIED:20240808T141723Z
UID:10000149-1726480800-1726480800@www.guelphwellingtonlip.ca
SUMMARY:Beginner English Group
DESCRIPTION:A friendly space to create social connections\, build friendships and improve English language skills.
URL:https://www.guelphwellingtonlip.ca/event/beginner-english-group/
LOCATION:Shelldale Community Centre\, 20 Shelldale Crescent\, Guelph\, Ontario\, N1H 1C8\, Canada
ORGANIZER;CN="Guelph Community Health Centre":MAILTO:kcumming@guelphchc.ca
END:VEVENT
BEGIN:VEVENT
DTSTART;TZID=America/Toronto:20240912T153000
DTEND;TZID=America/Toronto:20240912T153000
DTSTAMP:20260422T012235
CREATED:20240808T141824Z
LAST-MODIFIED:20240808T141824Z
UID:10000150-1726155000-1726155000@www.guelphwellingtonlip.ca
SUMMARY:Shelldale Block Party
DESCRIPTION:An annual event at the Shelldale Center (20 Shelldale Crescent). Free food\, live entertainment\, indoor and outdoor activities.
URL:https://www.guelphwellingtonlip.ca/event/shelldale-block-party/
LOCATION:Shelldale Community Centre\, 20 Shelldale Crescent\, Guelph\, Ontario\, N1H 1C8\, Canada
ORGANIZER;CN="Guelph Community Health Centre":MAILTO:kcumming@guelphchc.ca
END:VEVENT
BEGIN:VEVENT
DTSTART;TZID=UTC:20230911T180000
DTEND;TZID=UTC:20230911T200000
DTSTAMP:20260422T012235
CREATED:20230808T142328Z
LAST-MODIFIED:20230825T123342Z
UID:10000108-1694455200-1694462400@www.guelphwellingtonlip.ca
SUMMARY:Learn more About the Canadian Arab Women's Association (CAWA)
DESCRIPTION:Showcasing CAWA programs and services to the community. Our outreach workers will be available to explain the programs and answer all queries.
URL:https://www.guelphwellingtonlip.ca/event/canadian-arab-womens-association-cawa/
LOCATION:Shelldale Community Centre\, 20 Shelldale Crescent\, Guelph\, Ontario\, N1H 1C8\, Canada
ORGANIZER;CN="Canadian Arab Women's Association (CAWA)":MAILTO:oulaalmadhoun@cawakw.ca
END:VEVENT
END:VCALENDAR