BEGIN:VCALENDAR
VERSION:2.0
PRODID:-//Guelph-Wellington Local Immigration Partnership - ECPv6.15.20//NONSGML v1.0//EN
CALSCALE:GREGORIAN
METHOD:PUBLISH
X-ORIGINAL-URL:https://www.guelphwellingtonlip.ca
X-WR-CALDESC:Events for Guelph-Wellington Local Immigration Partnership
REFRESH-INTERVAL;VALUE=DURATION:PT1H
X-Robots-Tag:noindex
X-PUBLISHED-TTL:PT1H
BEGIN:VTIMEZONE
TZID:America/Toronto
BEGIN:DAYLIGHT
TZOFFSETFROM:-0500
TZOFFSETTO:-0400
TZNAME:EDT
DTSTART:20240310T070000
END:DAYLIGHT
BEGIN:STANDARD
TZOFFSETFROM:-0400
TZOFFSETTO:-0500
TZNAME:EST
DTSTART:20241103T060000
END:STANDARD
BEGIN:DAYLIGHT
TZOFFSETFROM:-0500
TZOFFSETTO:-0400
TZNAME:EDT
DTSTART:20250309T070000
END:DAYLIGHT
BEGIN:STANDARD
TZOFFSETFROM:-0400
TZOFFSETTO:-0500
TZNAME:EST
DTSTART:20251102T060000
END:STANDARD
BEGIN:DAYLIGHT
TZOFFSETFROM:-0500
TZOFFSETTO:-0400
TZNAME:EDT
DTSTART:20260308T070000
END:DAYLIGHT
BEGIN:STANDARD
TZOFFSETFROM:-0400
TZOFFSETTO:-0500
TZNAME:EST
DTSTART:20261101T060000
END:STANDARD
END:VTIMEZONE
BEGIN:VTIMEZONE
TZID:America/New_York
BEGIN:DAYLIGHT
TZOFFSETFROM:-0500
TZOFFSETTO:-0400
TZNAME:EDT
DTSTART:20220313T070000
END:DAYLIGHT
BEGIN:STANDARD
TZOFFSETFROM:-0400
TZOFFSETTO:-0500
TZNAME:EST
DTSTART:20221106T060000
END:STANDARD
BEGIN:DAYLIGHT
TZOFFSETFROM:-0500
TZOFFSETTO:-0400
TZNAME:EDT
DTSTART:20230312T070000
END:DAYLIGHT
BEGIN:STANDARD
TZOFFSETFROM:-0400
TZOFFSETTO:-0500
TZNAME:EST
DTSTART:20231105T060000
END:STANDARD
BEGIN:DAYLIGHT
TZOFFSETFROM:-0500
TZOFFSETTO:-0400
TZNAME:EDT
DTSTART:20240310T070000
END:DAYLIGHT
BEGIN:STANDARD
TZOFFSETFROM:-0400
TZOFFSETTO:-0500
TZNAME:EST
DTSTART:20241103T060000
END:STANDARD
END:VTIMEZONE
BEGIN:VEVENT
DTSTART;TZID=America/Toronto:20250912T093000
DTEND;TZID=America/Toronto:20250921T160000
DTSTAMP:20260422T071808
CREATED:20250808T183909Z
LAST-MODIFIED:20250812T163535Z
UID:10000187-1757669400-1758470400@www.guelphwellingtonlip.ca
SUMMARY:Destination Wellington Exhibition
DESCRIPTION:An exhibition featuring the personal stories and artifacts of people who have moved to Wellington County from all over the world\, at different points throughout history. This is an ongoing exhibition\, available to visit during all of Welcome Week during museum operating hours (9:30am-4:30pm Mon-Fri\, 11:30am-4:00pm Sat-Sun). \nContact haileyj@wellington.ca for more details.
URL:https://www.guelphwellingtonlip.ca/event/destination-wellington-exhibition/
LOCATION:Wellington County Museum and Archives\, 536 Wellington Rd 18\, Fergus\, Canada
ORGANIZER;CN="Wellington County Museum and Archives":MAILTO:katiec@wellington.ca
END:VEVENT
BEGIN:VEVENT
DTSTART;TZID=America/Toronto:20250912T093000
DTEND;TZID=America/Toronto:20250914T160000
DTSTAMP:20260422T071808
CREATED:20250808T184036Z
LAST-MODIFIED:20250812T163436Z
UID:10000188-1757669400-1757865600@www.guelphwellingtonlip.ca
SUMMARY:Refuge Canada Exhibition
DESCRIPTION:Created by the Canadian Museum of Immigration at Pier 21\, Refuge Canada is a moving exhibition that explores Canada’s role in the global refugee crisis. It will be on display at Wellington County Museum and Archives until Sunday\, September 14. \nContact haileyj@wellington.ca for more details.
URL:https://www.guelphwellingtonlip.ca/event/refuge-canada-exhibition/
LOCATION:Wellington County Museum and Archives\, 536 Wellington Rd 18\, Fergus\, Canada
ORGANIZER;CN="Wellington County Museum and Archives":MAILTO:katiec@wellington.ca
END:VEVENT
BEGIN:VEVENT
DTSTART;TZID=America/New_York:20230923T110000
DTEND;TZID=America/New_York:20230923T160000
DTSTAMP:20260422T071808
CREATED:20230808T153818Z
LAST-MODIFIED:20230809T135202Z
UID:10000124-1695466800-1695484800@www.guelphwellingtonlip.ca
SUMMARY:Wellington County Multicultural Festival
DESCRIPTION:A Celebration of the Many Cultures and Communities of Wellington County. The free event will feature live cultural performances\, food\, music and kids activities. The event aims to increase cross-cultural engagement\, create space to rejoice and celebrate the charm of cultures and customs of the past\, present and new communities moving into the region.
URL:https://www.guelphwellingtonlip.ca/event/wellington-county-multicultural-festival/
LOCATION:Wellington County Museum and Archives\, 536 Wellington Rd 18\, Fergus\, Canada
ORGANIZER;CN="County of Wellington":MAILTO:Anuradhad@wellington.ca
END:VEVENT
END:VCALENDAR